BEGIN:VCALENDAR
VERSION:2.0
PRODID:-//Carnegie Harriers | Keeping West Fife Running | Dunfermline - ECPv6.15.20//NONSGML v1.0//EN
CALSCALE:GREGORIAN
METHOD:PUBLISH
X-WR-CALNAME:Carnegie Harriers | Keeping West Fife Running | Dunfermline
X-ORIGINAL-URL:https://carnegie-harriers.co.uk
X-WR-CALDESC:Events for Carnegie Harriers | Keeping West Fife Running | Dunfermline
REFRESH-INTERVAL;VALUE=DURATION:PT1H
X-Robots-Tag:noindex
X-PUBLISHED-TTL:PT1H
BEGIN:VTIMEZONE
TZID:Europe/Dublin
BEGIN:STANDARD
TZOFFSETFROM:+0000
TZOFFSETTO:+0100
TZNAME:IST
DTSTART:20240331T010000
END:STANDARD
BEGIN:DAYLIGHT
TZOFFSETFROM:+0100
TZOFFSETTO:+0000
TZNAME:GMT
DTSTART:20241027T010000
END:DAYLIGHT
BEGIN:STANDARD
TZOFFSETFROM:+0000
TZOFFSETTO:+0100
TZNAME:IST
DTSTART:20250330T010000
END:STANDARD
BEGIN:DAYLIGHT
TZOFFSETFROM:+0100
TZOFFSETTO:+0000
TZNAME:GMT
DTSTART:20251026T010000
END:DAYLIGHT
BEGIN:STANDARD
TZOFFSETFROM:+0000
TZOFFSETTO:+0100
TZNAME:IST
DTSTART:20260329T010000
END:STANDARD
BEGIN:DAYLIGHT
TZOFFSETFROM:+0100
TZOFFSETTO:+0000
TZNAME:GMT
DTSTART:20261025T010000
END:DAYLIGHT
END:VTIMEZONE
BEGIN:VEVENT
DTSTART;TZID=Europe/Dublin:20250803T110000
DTEND;TZID=Europe/Dublin:20250803T140000
DTSTAMP:20260425T002521
CREATED:20250222T111925Z
LAST-MODIFIED:20250303T203211Z
UID:7001-1754218800-1754229600@carnegie-harriers.co.uk
SUMMARY:Templeton Trail Race
DESCRIPTION:Templeton Trail Race\, Dundee \nTRAIL Entries open on EntryCentral here
URL:https://carnegie-harriers.co.uk/race-calendar/templeton-trail-race/
LOCATION:Templeton Woods\, Dundee\, DD24TF\, United Kingdom
CATEGORIES:Trail GP
END:VEVENT
END:VCALENDAR