BEGIN:VCALENDAR
VERSION:2.0
PRODID:-//Carnegie Harriers | Keeping West Fife Running | Dunfermline - ECPv6.15.20//NONSGML v1.0//EN
CALSCALE:GREGORIAN
METHOD:PUBLISH
X-WR-CALNAME:Carnegie Harriers | Keeping West Fife Running | Dunfermline
X-ORIGINAL-URL:https://carnegie-harriers.co.uk
X-WR-CALDESC:Events for Carnegie Harriers | Keeping West Fife Running | Dunfermline
REFRESH-INTERVAL;VALUE=DURATION:PT1H
X-Robots-Tag:noindex
X-PUBLISHED-TTL:PT1H
BEGIN:VTIMEZONE
TZID:UTC
BEGIN:STANDARD
TZOFFSETFROM:+0000
TZOFFSETTO:+0000
TZNAME:UTC
DTSTART:20200101T000000
END:STANDARD
END:VTIMEZONE
BEGIN:VEVENT
DTSTART;TZID=UTC:20211113T133000
DTEND;TZID=UTC:20211113T153000
DTSTAMP:20260424T012009
CREATED:20211031T175355Z
LAST-MODIFIED:20211102T224207Z
UID:4408-1636810200-1636817400@carnegie-harriers.co.uk
SUMMARY:Winter 2021/22 GP Event 3 - Braid Hills 10k Cross Country
DESCRIPTION:10k race comprises 2 loops of the course starting at 2:15pm
URL:https://carnegie-harriers.co.uk/race-calendar/winter-2021-22-gp-event-3-braid-hills-10k-cross-country/
LOCATION:Braid Hills Golf Centre\, Braid Hills Golf Centre 91 Liberton Drive\, Edinburgh\, EH16 6NS
CATEGORIES:Races,Winter GP 2021/22
END:VEVENT
END:VCALENDAR