BEGIN:VCALENDAR
VERSION:2.0
PRODID:-//Carnegie Harriers | Keeping West Fife Running | Dunfermline - ECPv6.15.20//NONSGML v1.0//EN
CALSCALE:GREGORIAN
METHOD:PUBLISH
X-WR-CALNAME:Carnegie Harriers | Keeping West Fife Running | Dunfermline
X-ORIGINAL-URL:https://carnegie-harriers.co.uk
X-WR-CALDESC:Events for Carnegie Harriers | Keeping West Fife Running | Dunfermline
REFRESH-INTERVAL;VALUE=DURATION:PT1H
X-Robots-Tag:noindex
X-PUBLISHED-TTL:PT1H
BEGIN:VTIMEZONE
TZID:UTC
BEGIN:STANDARD
TZOFFSETFROM:+0000
TZOFFSETTO:+0000
TZNAME:UTC
DTSTART:20200101T000000
END:STANDARD
END:VTIMEZONE
BEGIN:VEVENT
DTSTART;TZID=UTC:20211120T123000
DTEND;TZID=UTC:20211120T153000
DTSTAMP:20260424T011916
CREATED:20211012T150737Z
LAST-MODIFIED:20211103T230105Z
UID:4393-1637411400-1637422200@carnegie-harriers.co.uk
SUMMARY:Winter 2021/22 GP Event 4 - East District XC League - Race 2
DESCRIPTION:Women run 6.4k starting at 1:10pm\, men run 9.6k starting at 2:20pm
URL:https://carnegie-harriers.co.uk/race-calendar/east-district-xc-league-race-2/
LOCATION:Camperdown Park\, Camperdown Park\, Dundee\, DD2 4TF
CATEGORIES:Races,Winter GP 2021/22
END:VEVENT
END:VCALENDAR