BEGIN:VCALENDAR
VERSION:2.0
PRODID:-//Carnegie Harriers | Keeping West Fife Running | Dunfermline - ECPv6.15.20//NONSGML v1.0//EN
CALSCALE:GREGORIAN
METHOD:PUBLISH
X-WR-CALNAME:Carnegie Harriers | Keeping West Fife Running | Dunfermline
X-ORIGINAL-URL:https://carnegie-harriers.co.uk
X-WR-CALDESC:Events for Carnegie Harriers | Keeping West Fife Running | Dunfermline
REFRESH-INTERVAL;VALUE=DURATION:PT1H
X-Robots-Tag:noindex
X-PUBLISHED-TTL:PT1H
BEGIN:VTIMEZONE
TZID:UTC
BEGIN:STANDARD
TZOFFSETFROM:+0000
TZOFFSETTO:+0000
TZNAME:UTC
DTSTART:20200101T000000
END:STANDARD
END:VTIMEZONE
BEGIN:VEVENT
DTSTART;TZID=UTC:20211204T123000
DTEND;TZID=UTC:20211204T153000
DTSTAMP:20260424T011929
CREATED:20211012T150854Z
LAST-MODIFIED:20211117T142145Z
UID:4395-1638621000-1638631800@carnegie-harriers.co.uk
SUMMARY:Winter 2021/22 GP Event 6 - East District XC Championships
DESCRIPTION:Pre-entry only via the club by Thursday 18th November 2021. \nWomen run 8.6k\, starting at 1:35 pm\, men run 8.6k\, starting at 2:20 pm.
URL:https://carnegie-harriers.co.uk/race-calendar/east-district-xc-championships/
LOCATION:Stirling University\, Stirling Uni Sport\, Stirling\, FK9 4LA\, United Kingdom
CATEGORIES:Races,Winter GP 2021/22
END:VEVENT
END:VCALENDAR