BEGIN:VCALENDAR
VERSION:2.0
PRODID:-//Carnegie Harriers | Keeping West Fife Running | Dunfermline - ECPv6.15.20//NONSGML v1.0//EN
CALSCALE:GREGORIAN
METHOD:PUBLISH
X-ORIGINAL-URL:https://carnegie-harriers.co.uk
X-WR-CALDESC:Events for Carnegie Harriers | Keeping West Fife Running | Dunfermline
REFRESH-INTERVAL;VALUE=DURATION:PT1H
X-Robots-Tag:noindex
X-PUBLISHED-TTL:PT1H
BEGIN:VTIMEZONE
TZID:UTC
BEGIN:STANDARD
TZOFFSETFROM:+0000
TZOFFSETTO:+0000
TZNAME:UTC
DTSTART:20200101T000000
END:STANDARD
END:VTIMEZONE
BEGIN:VEVENT
DTSTART;TZID=UTC:20211218T103000
DTEND;TZID=UTC:20211218T123000
DTSTAMP:20260425T214857
CREATED:20211031T181610Z
LAST-MODIFIED:20211203T165553Z
UID:4415-1639823400-1639830600@carnegie-harriers.co.uk
SUMMARY:Battle of Inverkeithing XC
DESCRIPTION:Closed event for club members only. \n1 short loop and 2 long loops of the Battle of Inverkeithing cross country route\, approximately 8k. Further information to follow. \n 
URL:https://carnegie-harriers.co.uk/race-calendar/battle-of-inverkeithing-xc/
LOCATION:Castle Road\, Rosyth\, Castle Road\, Rosyth\, Fife\, KY112UU\, United Kingdom
CATEGORIES:Races
END:VEVENT
END:VCALENDAR