BEGIN:VCALENDAR
VERSION:2.0
PRODID:-//Carnegie Harriers | Keeping West Fife Running | Dunfermline - ECPv6.15.20//NONSGML v1.0//EN
CALSCALE:GREGORIAN
METHOD:PUBLISH
X-ORIGINAL-URL:https://carnegie-harriers.co.uk
X-WR-CALDESC:Events for Carnegie Harriers | Keeping West Fife Running | Dunfermline
REFRESH-INTERVAL;VALUE=DURATION:PT1H
X-Robots-Tag:noindex
X-PUBLISHED-TTL:PT1H
BEGIN:VTIMEZONE
TZID:UTC
BEGIN:STANDARD
TZOFFSETFROM:+0000
TZOFFSETTO:+0000
TZNAME:UTC
DTSTART:20210101T000000
END:STANDARD
END:VTIMEZONE
BEGIN:VEVENT
DTSTART;TZID=UTC:20220206T110000
DTEND;TZID=UTC:20220206T140000
DTSTAMP:20260425T203500
CREATED:20211031T181725Z
LAST-MODIFIED:20220207T151545Z
UID:4416-1644145200-1644156000@carnegie-harriers.co.uk
SUMMARY:Winter 2021/22 GP Event 9 - Forfar Multi-Terrain Half Marathon
DESCRIPTION:
URL:https://carnegie-harriers.co.uk/race-calendar/winter-2021-22-gp-event-9-forfar-multi-terrain-half-marathon/
LOCATION:Forfar Rugby Club\, Inchmacoble Park\, Forfar\, DD8 1RL
CATEGORIES:Races,Winter GP 2021/22
END:VEVENT
END:VCALENDAR