BEGIN:VCALENDAR
VERSION:2.0
PRODID:-//Carnegie Harriers | Keeping West Fife Running | Dunfermline - ECPv6.15.20//NONSGML v1.0//EN
CALSCALE:GREGORIAN
METHOD:PUBLISH
X-WR-CALNAME:Carnegie Harriers | Keeping West Fife Running | Dunfermline
X-ORIGINAL-URL:https://carnegie-harriers.co.uk
X-WR-CALDESC:Events for Carnegie Harriers | Keeping West Fife Running | Dunfermline
REFRESH-INTERVAL;VALUE=DURATION:PT1H
X-Robots-Tag:noindex
X-PUBLISHED-TTL:PT1H
BEGIN:VTIMEZONE
TZID:UTC
BEGIN:STANDARD
TZOFFSETFROM:+0000
TZOFFSETTO:+0000
TZNAME:UTC
DTSTART:20160101T000000
END:STANDARD
END:VTIMEZONE
BEGIN:VEVENT
DTSTART;TZID=UTC:20190126T090000
DTEND;TZID=UTC:20190126T150000
DTSTAMP:20260426T050620
CREATED:20190118T211305Z
LAST-MODIFIED:20190118T211305Z
UID:1685-1548493200-1548514800@carnegie-harriers.co.uk
SUMMARY:Races - Devils Burdens Relays
DESCRIPTION:Devils Burdens Relays \nFalkland
URL:https://carnegie-harriers.co.uk/race-calendar/races-devils-burdens-relays/
LOCATION:Falkland Village Hall\, Back Wynd\, Falkland\, Fife\, KY15 7BX
CATEGORIES:Races
END:VEVENT
BEGIN:VEVENT
DTSTART;TZID=UTC:20190119T130000
DTEND;TZID=UTC:20190119T160000
DTSTAMP:20260426T050620
CREATED:20180829T201416Z
LAST-MODIFIED:20180829T201416Z
UID:1338-1547902800-1547913600@carnegie-harriers.co.uk
SUMMARY:Cross Country: East District CC League Race 3 (2018/19 GP Event No 10)
DESCRIPTION:East District Cross Country League Race 3 (2018/19 GP Event No 10) – no pre-entry\, just turn up on the day
URL:https://carnegie-harriers.co.uk/race-calendar/cross-country-east-district-cc-league-race-3-2018-19-gp-event-no-10/
LOCATION:Deans Community High School\, Eastwood Park\, Livingston\, West Lothian\, EH54 8PS\, United Kingdom
CATEGORIES:Races
END:VEVENT
BEGIN:VEVENT
DTSTART;TZID=UTC:20190102T120000
DTEND;TZID=UTC:20190102T140000
DTSTAMP:20260426T050620
CREATED:20190104T153335Z
LAST-MODIFIED:20190104T153927Z
UID:1651-1546430400-1546437600@carnegie-harriers.co.uk
SUMMARY:HILL GP EVENT NO. 1 : GREENMANTLE DASH
DESCRIPTION:HILL GP EVENT NO. 1 : GREENMANTLE DASH\n\n12:00 pm Broughton Village Hall\, near Biggar \n\nEvent No 1: Wednesday 2nd January – Greenmantle Dash\, Short
URL:https://carnegie-harriers.co.uk/race-calendar/hill-gp-event-no-1-greenmantle-dash/
LOCATION:Broughton Village Hall\, Broughton\, Biggar\, ML12 6HG\, United Kingdom
CATEGORIES:Hill GP 2019,Races
END:VEVENT
BEGIN:VEVENT
DTSTART;TZID=UTC:20181222T110000
DTEND;TZID=UTC:20181222T140000
DTSTAMP:20260426T050620
CREATED:20181011T160146Z
LAST-MODIFIED:20181011T173310Z
UID:1463-1545476400-1545487200@carnegie-harriers.co.uk
SUMMARY:Hill Race: Kirk Craigs Christmas Cracker - 2018 Hill GP Event No 13
DESCRIPTION:Kirk Craigs Christmas Cracker Hill Race\, Short \n11.00 am start\, Centenary Hall\, Hamilton Street\, Tillicoultry \nhttp://www.scottishhillracing.co.uk/RaceDetails.aspx?RaceID=RA-0330
URL:https://carnegie-harriers.co.uk/race-calendar/hill-race-kirk-craigs-christmas-cracker-2018-hill-gp-event-no-13/
LOCATION:Tillicoultry\, Centenary Hall\, Hamilton Street\, Tillicoultry\, FK13 6EL\, United Kingdom
CATEGORIES:Grand Prix races,Hill Grand Proc 2018/2019,Races
END:VEVENT
BEGIN:VEVENT
DTSTART;TZID=UTC:20181215T113000
DTEND;TZID=UTC:20181215T143000
DTSTAMP:20260426T050620
CREATED:20180906T194116Z
LAST-MODIFIED:20180906T194116Z
UID:1381-1544873400-1544884200@carnegie-harriers.co.uk
SUMMARY:Race: Festive Forest Run
DESCRIPTION:Carnegie Harriers Members Only Festive Forest Run – provisional date\, details to be confirmed in due course
URL:https://carnegie-harriers.co.uk/race-calendar/race-festive-forest-run/
LOCATION:Blairadam Forest\, Blairadam Forest\, Kelty\, Fife\, KY4 0JW\, United Kingdom
CATEGORIES:Races
END:VEVENT
BEGIN:VEVENT
DTSTART;TZID=UTC:20181208T130000
DTEND;TZID=UTC:20181208T160000
DTSTAMP:20260426T050620
CREATED:20180829T201022Z
LAST-MODIFIED:20180906T121939Z
UID:1336-1544274000-1544284800@carnegie-harriers.co.uk
SUMMARY:Cross Country: East District CC Championships - 2018/19 GP Event No 9
DESCRIPTION:East District Cross Country Championships (2018/19 GP Event N0 9) – pre-entry only through Club Captains
URL:https://carnegie-harriers.co.uk/race-calendar/cross-country-east-district-cc-championships-2018-19-gp-event-no-9/
LOCATION:Aberdeen
CATEGORIES:Grand Pix 2018/2019,Races
END:VEVENT
BEGIN:VEVENT
DTSTART;TZID=UTC:20181124T130000
DTEND;TZID=UTC:20181124T160000
DTSTAMP:20260426T050620
CREATED:20180829T200227Z
LAST-MODIFIED:20180829T200227Z
UID:1334-1543064400-1543075200@carnegie-harriers.co.uk
SUMMARY:Cross Country: East District CC League Race 2
DESCRIPTION:East District Cross Country League Race 2 – no pre-entry\, just turn up on the day
URL:https://carnegie-harriers.co.uk/race-calendar/cross-country-east-district-cc-league-race-2/
LOCATION:Broxburn\, Broxburn Academy\, Broxburn\, West Lothian\, EH52 6AG\, United Kingdom
CATEGORIES:Races
END:VEVENT
BEGIN:VEVENT
DTSTART;TZID=UTC:20181117T110000
DTEND;TZID=UTC:20181117T153000
DTSTAMP:20260426T050620
CREATED:20180906T115309Z
LAST-MODIFIED:20180906T115309Z
UID:1353-1542452400-1542468600@carnegie-harriers.co.uk
SUMMARY:Cross Country: Braid Hills Open CC Races
DESCRIPTION:Braid Hills Open CC Races – further details to be confirmed. \n2018 event being organised by club member Arianne Holland.
URL:https://carnegie-harriers.co.uk/race-calendar/cross-country-braid-hills-open-cc-races/
LOCATION:Edinburgh\, EH52 6AG
CATEGORIES:Races
END:VEVENT
BEGIN:VEVENT
DTSTART;TZID=UTC:20181110T130000
DTEND;TZID=UTC:20181110T170000
DTSTAMP:20260426T050620
CREATED:20180906T160216Z
LAST-MODIFIED:20181011T155233Z
UID:1373-1541854800-1541869200@carnegie-harriers.co.uk
SUMMARY:Hill Race: Tinto - 2018 Hill GP Event No 12
DESCRIPTION:Tinto Hill Race\, Short \n2.00 pm start\, Sports Club\, Symington near Biggar. Enter through SI Entries \nhttp://www.scottishhillracing.co.uk/RaceDetails.aspx?RaceID=RA-0108
URL:https://carnegie-harriers.co.uk/race-calendar/hill-race-tinto-2018-hill-gp-event-no-13/
LOCATION:Symington\, Sports Club\, Main Street\, Symington\, South Lanarkshire\, ML12 6LL\, United Kingdom
CATEGORIES:Hill Grand Proc 2018/2019,Races
END:VEVENT
BEGIN:VEVENT
DTSTART;TZID=UTC:20181110T130000
DTEND;TZID=UTC:20181110T160000
DTSTAMP:20260426T050620
CREATED:20180829T195808Z
LAST-MODIFIED:20180829T200442Z
UID:1332-1541854800-1541865600@carnegie-harriers.co.uk
SUMMARY:Cross Country: National Short Course CC Championships
DESCRIPTION:National Short Course Cross Country Championships – pre-entry only through Club Captains
URL:https://carnegie-harriers.co.uk/race-calendar/cross-country-national-short-course-cc-championships/
LOCATION:Lanark Equestrian Centre\, ML11 9TA
CATEGORIES:Races
END:VEVENT
BEGIN:VEVENT
DTSTART;TZID=UTC:20181104T130000
DTEND;TZID=UTC:20181104T160000
DTSTAMP:20260426T050620
CREATED:20180906T114457Z
LAST-MODIFIED:20180906T114457Z
UID:1350-1541336400-1541347200@carnegie-harriers.co.uk
SUMMARY:Cross Country: Lasswade Open CC Races
DESCRIPTION:Lasswade Open CC Races – pre-entry via Entry Central \nMen: https://www.entrycentral.com/form/104030 \nWomen: https://www.entrycentral.com/form/104031
URL:https://carnegie-harriers.co.uk/race-calendar/cross-country-lasswade-open-cc-races/
LOCATION:Gorebridge\, EH23 4AA
CATEGORIES:Races
END:VEVENT
BEGIN:VEVENT
DTSTART;TZID=UTC:20181027T130000
DTEND;TZID=UTC:20181027T160000
DTSTAMP:20260426T050620
CREATED:20180829T195053Z
LAST-MODIFIED:20180829T195259Z
UID:1330-1540645200-1540656000@carnegie-harriers.co.uk
SUMMARY:Cross Country: National CC Relay Championships
DESCRIPTION:National Cross Country Relay Championship – pre-entry only through Club Captains
URL:https://carnegie-harriers.co.uk/race-calendar/cross-country-national-cc-relay-championships/
LOCATION:Cumbernauld House Park
CATEGORIES:Races
END:VEVENT
BEGIN:VEVENT
DTSTART;TZID=UTC:20181027T100000
DTEND;TZID=UTC:20181027T130000
DTSTAMP:20260426T050620
CREATED:20180906T155131Z
LAST-MODIFIED:20181011T155112Z
UID:1371-1540634400-1540645200@carnegie-harriers.co.uk
SUMMARY:Hill Race: Dumyat Dash - 2018 Hill GP Event No 11
DESCRIPTION:Dumyat Dash Hill Race\, Short \n11.00am start\, Dumyat Leisure Centre\, Menstrie FK11 7BA. Further details to be confirmed. \nhttp://www.scottishhillracing.co.uk/RaceDetails.aspx?RaceID=RA-0265
URL:https://carnegie-harriers.co.uk/race-calendar/hill-race-dumyat-dash-2018-hill-gp-event-no-12/
LOCATION:Menstrie\, FK11 7BA
CATEGORIES:Hill Grand Proc 2018/2019,Races
END:VEVENT
BEGIN:VEVENT
DTSTART;TZID=UTC:20181020T130000
DTEND;TZID=UTC:20181020T160000
DTSTAMP:20260426T050620
CREATED:20180829T193028Z
LAST-MODIFIED:20180829T194211Z
UID:1328-1540040400-1540051200@carnegie-harriers.co.uk
SUMMARY:Cross Country: East District CC League Race 1
DESCRIPTION:East District CC League Race 1 – no pre-entry\, turn up on the day
URL:https://carnegie-harriers.co.uk/race-calendar/cross-country-east-district-cc-league-race-1/
LOCATION:Stirling University\, Stirling Uni Sport\, Stirling\, FK9 4LA\, United Kingdom
CATEGORIES:Races
END:VEVENT
BEGIN:VEVENT
DTSTART;TZID=UTC:20181014T100000
DTEND;TZID=UTC:20181014T170000
DTSTAMP:20260426T050620
CREATED:20180906T123140Z
LAST-MODIFIED:20180906T155423Z
UID:1365-1539511200-1539536400@carnegie-harriers.co.uk
SUMMARY:Hill Race: Pentland Skyline Race - 2018 Hill GP Event No 10
DESCRIPTION:Pentland Skyline Hill Race\, Long \n11.00 am start\, Midlothian Ski Centre\, Hillend\, Edinburgh\, registration from 9.00 am \nhttp://www.scottishhillracing.co.uk/RaceDetails.aspx?RaceID=RA-0107
URL:https://carnegie-harriers.co.uk/race-calendar/hill-race-pentland-skyline-race-hill-gp-event-no-10/
LOCATION:Midlothian Ski Centre\, EH10 7DU
CATEGORIES:Hill Grand Proc 2018/2019,Races
END:VEVENT
BEGIN:VEVENT
DTSTART;TZID=UTC:20181013T123000
DTEND;TZID=UTC:20181013T160000
DTSTAMP:20260426T050620
CREATED:20180828T204106Z
LAST-MODIFIED:20180829T192230Z
UID:1324-1539433800-1539446400@carnegie-harriers.co.uk
SUMMARY:Cross Country: East District CC Relay Championships
DESCRIPTION:East District Cross Country Relay Championships – pre-entry only through Club Captains
URL:https://carnegie-harriers.co.uk/race-calendar/cross-country/
LOCATION:Glamis Castle\, Forfar\, DD8 1RJ
CATEGORIES:Races
END:VEVENT
BEGIN:VEVENT
DTSTART;TZID=UTC:20180923T100000
DTEND;TZID=UTC:20180923T140000
DTSTAMP:20260426T050620
CREATED:20180906T192135Z
LAST-MODIFIED:20180906T192135Z
UID:1374-1537696800-1537711200@carnegie-harriers.co.uk
SUMMARY:Road Race: Scottish Half Marathon - 2018/19 GP Event No 8
DESCRIPTION:Scottish Half Marathon – 13.1 miles\, Road \nInfo: 11:00 am start\, Meadowmill Sports Centre\, Tranent \n(https://www.scottishhalfmarathon.com/events/scottish-half/)
URL:https://carnegie-harriers.co.uk/race-calendar/road-race-scottish-half-marathon-2018-19-gp-event-no-8/
LOCATION:Tranent\, EH33 1LZ
CATEGORIES:Grand Pix 2018/2019,Races
END:VEVENT
BEGIN:VEVENT
DTSTART;TZID=UTC:20180617T103000
DTEND;TZID=UTC:20180617T143000
DTSTAMP:20260426T050620
CREATED:20180603T145718Z
LAST-MODIFIED:20180603T145718Z
UID:1161-1529231400-1529245800@carnegie-harriers.co.uk
SUMMARY:GP EVENT NO 5 : GLENROTHES 10K – 6.2 MILES\, ROAD
DESCRIPTION:GP EVENT NO 5 : GLENROTHES 10K – 6.2 MILES\, ROAD\n\n10:30 am Michael Woods Sports Centre\, Glenrothes \n\nhttps://www.evensi.uk/glenrothes-road-running-festival-2018-michael-woods-sportsleisure-centre/239324419 \nEntries: https://www.entrycentral.com/form/101141
URL:https://carnegie-harriers.co.uk/race-calendar/gp-event-no-5-glenrothes-10k-6-2-miles-road/
LOCATION:Micheal Woods\, Glenrothes\, Viewfield\, Glenrothes\, Fife\, KY6 2RD
CATEGORIES:Grand Pix 2018/2019,Grand Prix races,Races
END:VEVENT
BEGIN:VEVENT
DTSTART;TZID=UTC:20180603T130000
DTEND;TZID=UTC:20180603T150000
DTSTAMP:20260426T050620
CREATED:20180603T142825Z
LAST-MODIFIED:20180603T142825Z
UID:1142-1528030800-1528038000@carnegie-harriers.co.uk
SUMMARY:HILL GP EVENT NO. 4 : YETHOLM HILL RACE\, MEDIUM
DESCRIPTION:HILL GP EVENT NO. 4 : YETHOLM HILL RACE\, MEDIUM\nHalterburn\, near Kirk Yetholm \n\nhttp://www.scottishhillracing.co.uk/RaceDetails.aspx?RaceID=RA-0056
URL:https://carnegie-harriers.co.uk/race-calendar/hill-gp-event-no-4-yetholm-hill-race-medium/
LOCATION:Yetholm\, Halterburn\, near Kirk Yetholm
CATEGORIES:Grand Prix races,Hill Grand Proc 2018/2019,Races
END:VEVENT
BEGIN:VEVENT
DTSTART;TZID=UTC:20180601T193000
DTEND;TZID=UTC:20180601T210000
DTSTAMP:20260426T050620
CREATED:20180603T142612Z
LAST-MODIFIED:20180603T142612Z
UID:1140-1527881400-1527886800@carnegie-harriers.co.uk
SUMMARY:Beveridge Park 5k GP Event No. 4
DESCRIPTION:Beveridge Park 5k GP Event No. 4 \nBeveridge Park\, Kirkcaldy
URL:https://carnegie-harriers.co.uk/race-calendar/beveridge-park-5k-gp-event-no-4/
LOCATION:Beveridge Park\, Kirkcaldy\, Abbotshall Road\, Kirkcaldy\, Fife\, KY2 5LZ
CATEGORIES:Grand Pix 2018/2019,Grand Prix races,Races
END:VEVENT
BEGIN:VEVENT
DTSTART;TZID=UTC:20180415T150000
DTEND;TZID=UTC:20180415T180000
DTSTAMP:20260426T050620
CREATED:20180415T121646Z
LAST-MODIFIED:20180415T121646Z
UID:1106-1523804400-1523815200@carnegie-harriers.co.uk
SUMMARY:Hill GP Event #1 : Normans Law Hill Race
DESCRIPTION:HILL GP EVENT NO. 1 : NORMANS LAW HILL RACE\, SHORT\n\n2:30 pm Luthrie Village Hall\, Fife \n\nhttp://www.scottishhillracing.co.uk/RaceDetails.aspx?RaceID=RA-0022
URL:https://carnegie-harriers.co.uk/race-calendar/hill-gp-event-1-normans-law-hill-race/
LOCATION:Luthrie\, Luthrie Village Hall\, Luthrie\, Fife\, KY15 4NU\, United Kingdom
CATEGORIES:Grand Prix races,Races
END:VEVENT
BEGIN:VEVENT
DTSTART;TZID=UTC:20180325T080000
DTEND;TZID=UTC:20180325T170000
DTSTAMP:20260426T050620
CREATED:20180307T224305Z
LAST-MODIFIED:20180307T224305Z
UID:1049-1521964800-1521997200@carnegie-harriers.co.uk
SUMMARY:National Road Race Relays
DESCRIPTION:National Road Race Relays \nLivingston \n 
URL:https://carnegie-harriers.co.uk/race-calendar/national-road-race-relays/
CATEGORIES:Races
END:VEVENT
BEGIN:VEVENT
DTSTART;TZID=UTC:20180311T103000
DTEND;TZID=UTC:20180311T130000
DTSTAMP:20260426T050620
CREATED:20180307T224214Z
LAST-MODIFIED:20180307T224214Z
UID:1045-1520764200-1520773200@carnegie-harriers.co.uk
SUMMARY:GP Race Event #16 GARTMORN 6 – 6 MILES\, MULTI-TERRAIN\, SAUCHIE\, ALLOA
DESCRIPTION:EVENT NO 16:   SUNDAY 11TH MARCH – GARTMORN 6 – 6 MILES\, MULTI-TERRAIN\, SAUCHIE\, ALLOA\nhttp://weecountyharriers.co.uk/?page_id=28 \nhttps://www.entrycentral.com/Gartmorn-Six
URL:https://carnegie-harriers.co.uk/race-calendar/gp-race-event-16-gartmorn-6-6-miles-multi-terrain-sauchie-alloa/
LOCATION:Sauchie\, Carsebridge Road\, Alloa\, Clackmannanshire\, FK103LU
CATEGORIES:Grand Prix 2017/2018,Grand Prix races,Races
END:VEVENT
BEGIN:VEVENT
DTSTART;TZID=UTC:20180224T120000
DTEND;TZID=UTC:20180224T150000
DTSTAMP:20260426T050620
CREATED:20180203T142501Z
LAST-MODIFIED:20180203T142501Z
UID:916-1519473600-1519484400@carnegie-harriers.co.uk
SUMMARY:National XC Championships\, Falkirk (2017-18 GP Event no 15)
DESCRIPTION:National XC Championships\, Falkirk (2017-18 GP Event no 15) \nIf you would like to take part\, please respond direct to the emails sent out by Barry & Karen earlier this week. So far they have the following names: \nThe deadline for replying is by end of training on Tuesday 6th February. We’re really keen to put in a good entry for this\, the final cross country event of the year. Based on the numbers who have taken part in previous events this season it would be great if we could field at least two full teams for both men (6 per team) and women (4 per team). As things stand\, we’re still looking for another 3 men and 1 lady to complete teams.
URL:https://carnegie-harriers.co.uk/race-calendar/national-xc-championships-falkirk-2017-18-gp-event-no-15/
LOCATION:Callandar Park\, Callendar House\, Falkirk\, Falkirk\, FK1 1YR\, United Kingdom
CATEGORIES:Races
END:VEVENT
BEGIN:VEVENT
DTSTART;TZID=UTC:20180218T080000
DTEND;TZID=UTC:20180218T120000
DTSTAMP:20260426T050620
CREATED:20180203T142049Z
LAST-MODIFIED:20180203T142049Z
UID:915-1518940800-1518955200@carnegie-harriers.co.uk
SUMMARY:Devilla Forest Races 5k and 15k
DESCRIPTION:Devilla Forest Races
URL:https://carnegie-harriers.co.uk/race-calendar/devilla-forest-races-5k-15k/
LOCATION:Devilla\, Scottish Police College\, Kincardine\, Fife\, FK10 4BE\, United Kingdom
CATEGORIES:Races
END:VEVENT
BEGIN:VEVENT
DTSTART;TZID=UTC:20180210T080000
DTEND;TZID=UTC:20180210T120000
DTSTAMP:20260426T050620
CREATED:20180203T141915Z
LAST-MODIFIED:20180203T141915Z
UID:914-1518249600-1518264000@carnegie-harriers.co.uk
SUMMARY:Festive Forest Run
DESCRIPTION:Festive Forest Run \nBlairadam Forest
URL:https://carnegie-harriers.co.uk/race-calendar/festive-forest-run/
LOCATION:Blairadam Forest\, Blairadam Forest\, Kelty\, Fife\, KY4 0JW\, United Kingdom
CATEGORIES:Races
END:VEVENT
BEGIN:VEVENT
DTSTART;TZID=UTC:20180127T080000
DTEND;TZID=UTC:20180127T140000
DTSTAMP:20260426T050620
CREATED:20180106T205229Z
LAST-MODIFIED:20180106T205229Z
UID:618-1517040000-1517061600@carnegie-harriers.co.uk
SUMMARY:Devils Burden 2018
DESCRIPTION:Race registration is in the Village Hall in the main car park in Falkland\, commencing at 8.30 am. There are limited changing facilities and toilets at the Village Hall in Falkland\, and none at the stage changeovers.
URL:https://carnegie-harriers.co.uk/race-calendar/devils-burden-2018/
LOCATION:Falkland Village Hall\, Back Wynd\, Falkland\, Fife\, KY15 7BX
CATEGORIES:Races
END:VEVENT
BEGIN:VEVENT
DTSTART;TZID=UTC:20180120T120000
DTEND;TZID=UTC:20180120T160000
DTSTAMP:20260426T050620
CREATED:20180106T204456Z
LAST-MODIFIED:20180106T204456Z
UID:614-1516449600-1516464000@carnegie-harriers.co.uk
SUMMARY:GP Event No. 14 : East District League XC Race 3 Broxburn
DESCRIPTION:East District League XC Race 3\, Broxburn (2017-18 GP Event No 14) \nBroxburn Academy\, Broxburn – women start at 13.10\, men start at 14.15. http://events.scottishathletics.org.uk/events/20019-17551-east-district-cross-country-league-3 \n  \n 
URL:https://carnegie-harriers.co.uk/race-calendar/gp-event-no-14-east-district-league-xc-race-3-broxburn/
LOCATION:Broxburn\, Broxburn Academy\, Broxburn\, West Lothian\, EH52 6AG\, United Kingdom
CATEGORIES:Races
END:VEVENT
BEGIN:VEVENT
DTSTART;TZID=UTC:20171216T120000
DTEND;TZID=UTC:20171216T140000
DTSTAMP:20260426T050620
CREATED:20171202T121418Z
LAST-MODIFIED:20171202T121446Z
UID:447-1513425600-1513432800@carnegie-harriers.co.uk
SUMMARY:Club Festive Forest Race
DESCRIPTION:This year’s Festive Forest Run will take place on Saturday 16th December. This “club member only” event will be held over a near 7 mile trail route around Blairadam Forest\, starting and finishing at the Clentry Forestry Commission depot at Kelty (where they sell the Christmas trees). The main run will start at 12:30 pm\, with an earlier start time of 12:15 pm to give slightly slower runners a bit of a head start. \nAn entry form is attached to this week’s bulletin\, please fill it in and return it to Barry. If you are unable to run but would still like to be involved in the event\, please let Barry know as helpers will be required on the day. \nRecce runs have been organised for Sunday 19th Nov and Sunday 3rd Dec\, both starting at 9:30 am. These runs will give members the chance to have an easy paced run around the route\, stopping at various points to get their bearings and re-group. If anyone wants to car share to Blairadam\, we suggest leaving Queen Anne at 9:10 am on both Sundays which will give you sufficient time to get up to Kelty.
URL:https://carnegie-harriers.co.uk/race-calendar/club-festive-forest-race/
LOCATION:Blairadam Forest\, Blairadam Forest\, Kelty\, Fife\, KY4 0JW\, United Kingdom
CATEGORIES:Races
END:VEVENT
END:VCALENDAR