BEGIN:VCALENDAR
VERSION:2.0
PRODID:-//Carnegie Harriers | Keeping West Fife Running | Dunfermline - ECPv6.15.20//NONSGML v1.0//EN
CALSCALE:GREGORIAN
METHOD:PUBLISH
X-WR-CALNAME:Carnegie Harriers | Keeping West Fife Running | Dunfermline
X-ORIGINAL-URL:https://carnegie-harriers.co.uk
X-WR-CALDESC:Events for Carnegie Harriers | Keeping West Fife Running | Dunfermline
REFRESH-INTERVAL;VALUE=DURATION:PT1H
X-Robots-Tag:noindex
X-PUBLISHED-TTL:PT1H
BEGIN:VTIMEZONE
TZID:UTC
BEGIN:STANDARD
TZOFFSETFROM:+0000
TZOFFSETTO:+0000
TZNAME:UTC
DTSTART:20170101T000000
END:STANDARD
END:VTIMEZONE
BEGIN:VEVENT
DTSTART;TZID=UTC:20181002T183000
DTEND;TZID=UTC:20181002T193000
DTSTAMP:20260422T051232
CREATED:20181002T132000Z
LAST-MODIFIED:20181002T132000Z
UID:1438-1538505000-1538508600@carnegie-harriers.co.uk
SUMMARY:Training : 3 x 8 mins @ 10k pace with 2 mins recovery
DESCRIPTION:3 x 8 mins @ 10k pace with 2 mins recovery. Rosyth Ferrytoll \nMeet at Pitreavie for run down to venue or meet at  roundabout at Castle Drive\, Rosyth
URL:https://carnegie-harriers.co.uk/race-calendar/training-3-x-8-mins-10k-pace-with-2-mins-recovery/
LOCATION:Castle Road\, Rosyth\, Castle Road\, Rosyth\, Fife\, KY112UU\, United Kingdom
CATEGORIES:Club Training,Training
END:VEVENT
BEGIN:VEVENT
DTSTART;TZID=UTC:20181004T183000
DTEND;TZID=UTC:20181004T193000
DTSTAMP:20260422T051232
CREATED:20181002T132431Z
LAST-MODIFIED:20181002T132431Z
UID:1440-1538677800-1538681400@carnegie-harriers.co.uk
SUMMARY:Training : Progressive session: 2-2-2-2 minutes
DESCRIPTION:Progressive session:\n2-2-2-2 minutes – slow jog\, marathon\, ½ marathon\, 10k pace x 3 reps\nOR Social Run (depending on numbers etc) \nCovenantors Rise Loop\, Dunfermline
URL:https://carnegie-harriers.co.uk/race-calendar/training-progressive-session-2-2-2-2-minutes/
LOCATION:Covenantors Rise\, Dunfermline\, Covenantors Rise\, Dunfermline\, Fife\, KY118SQ\, United Kingdom
CATEGORIES:Club Training,Training
END:VEVENT
BEGIN:VEVENT
DTSTART;TZID=UTC:20181009T183000
DTEND;TZID=UTC:20181009T193000
DTSTAMP:20260422T051232
CREATED:20181011T150653Z
LAST-MODIFIED:20181011T152906Z
UID:1456-1539109800-1539113400@carnegie-harriers.co.uk
SUMMARY:Training: 3 x 8 mins @10k pace with 2 mins recovery
DESCRIPTION:3 x 8 mins @ 10k pace with 2 mins recovery. Rosyth Ferrytoll \nMeet at Pitreavie for run down to venue or meet at  roundabout at Castle Drive\, Rosyth
URL:https://carnegie-harriers.co.uk/race-calendar/training-3-x-8-mins-10k-pace-with-2-mins-recovery-2/
LOCATION:Castle Road\, Rosyth\, Castle Road\, Rosyth\, Fife\, KY112UU\, United Kingdom
CATEGORIES:Club Training,Training
END:VEVENT
BEGIN:VEVENT
DTSTART;TZID=UTC:20181011T183000
DTEND;TZID=UTC:20181011T193000
DTSTAMP:20260422T051232
CREATED:20181011T151017Z
LAST-MODIFIED:20181011T153116Z
UID:1457-1539282600-1539286200@carnegie-harriers.co.uk
SUMMARY:Training: Progressive Session: 2-2-2-2 minutes
DESCRIPTION:Progressive session:\n2-2-2-2 minutes – slow jog\, marathon\, ½ marathon\, 10k pace x 4 reps\nOR Social Run (depending on numbers etc) \nCovenantors Rise Loop\, Dunfermline
URL:https://carnegie-harriers.co.uk/race-calendar/training-progressive-session-2-2-2-2-minutes-2/
LOCATION:Covenantors Rise\, Dunfermline\, Covenantors Rise\, Dunfermline\, Fife\, KY118SQ\, United Kingdom
CATEGORIES:Club Training,Training
END:VEVENT
BEGIN:VEVENT
DTSTART;TZID=UTC:20181016T183000
DTEND;TZID=UTC:20181016T200000
DTSTAMP:20260422T051232
CREATED:20181011T151344Z
LAST-MODIFIED:20181011T153256Z
UID:1458-1539714600-1539720000@carnegie-harriers.co.uk
SUMMARY:Training: 3 x 9 minutes @ half marathon pace with 2 mins recovery
DESCRIPTION:3 x 9 mins @ half marathon pace with 2 mins recovery. Rosyth Ferrytoll \nMeet at Pitreavie for run down to venue or meet at  roundabout at Castle Drive\, Rosyth
URL:https://carnegie-harriers.co.uk/race-calendar/training-3-x-9-minutes-half-marathon-pace-with-2-mins-recovery/
LOCATION:Castle Road\, Rosyth\, Castle Road\, Rosyth\, Fife\, KY112UU\, United Kingdom
CATEGORIES:Club Training,Training
END:VEVENT
BEGIN:VEVENT
DTSTART;TZID=UTC:20181018T183000
DTEND;TZID=UTC:20181018T200000
DTSTAMP:20260422T051232
CREATED:20181011T151658Z
LAST-MODIFIED:20181011T153422Z
UID:1459-1539887400-1539892800@carnegie-harriers.co.uk
SUMMARY:Training: Progressive Session: 3-3-3-3
DESCRIPTION:Progressive session:\n3-3-3-3 minutes – slow jog\, marathon\, ½ marathon\, 10k pace x 3 reps\nOR Social Run (depending on numbers etc) \nCovenantors Rise Loop\, Dunfermline
URL:https://carnegie-harriers.co.uk/race-calendar/training-progressive-session-3-3-3-3/
LOCATION:Covenantors Rise\, Dunfermline\, Covenantors Rise\, Dunfermline\, Fife\, KY118SQ\, United Kingdom
CATEGORIES:Club Training,Training
END:VEVENT
BEGIN:VEVENT
DTSTART;TZID=UTC:20181023T183000
DTEND;TZID=UTC:20181023T200000
DTSTAMP:20260422T051232
CREATED:20181011T152020Z
LAST-MODIFIED:20181011T154925Z
UID:1460-1540319400-1540324800@carnegie-harriers.co.uk
SUMMARY:Training: 3 x 10 mins @ half marathon pace with 2 mins recovery
DESCRIPTION:3 x 10 mins @ half marathon pace with 2 mins recovery. Rosyth Ferrytoll \nMeet at Pitreavie for run down to venue or meet at  roundabout at Castle Drive\, Rosyth
URL:https://carnegie-harriers.co.uk/race-calendar/training-3-x-10-mins-half-marathon-pace-with-2-mins-recovery/
LOCATION:Fife
CATEGORIES:Club Training,Training
END:VEVENT
BEGIN:VEVENT
DTSTART;TZID=UTC:20181025T183000
DTEND;TZID=UTC:20181025T200000
DTSTAMP:20260422T051232
CREATED:20181011T152236Z
LAST-MODIFIED:20181011T152236Z
UID:1461-1540492200-1540497600@carnegie-harriers.co.uk
SUMMARY:Training: Progressive session: 3-3-3-3
DESCRIPTION:Progressive session:\n3-3-3-3 minutes – slow jog\, marathon\, ½ marathon\, 10k pace x 4 reps\nOR Social Run (depending on numbers etc) \nCovenantors Rise Loop\, Dunfermline
URL:https://carnegie-harriers.co.uk/race-calendar/training-progressive-session-3-3-3-3-2/
LOCATION:Covenantors Rise\, Dunfermline\, Covenantors Rise\, Dunfermline\, Fife\, KY118SQ\, United Kingdom
CATEGORIES:Club Training,Training
END:VEVENT
BEGIN:VEVENT
DTSTART;TZID=UTC:20181030T183000
DTEND;TZID=UTC:20181030T200000
DTSTAMP:20260422T051232
CREATED:20181011T152545Z
LAST-MODIFIED:20181011T152545Z
UID:1462-1540924200-1540929600@carnegie-harriers.co.uk
SUMMARY:Training: 3 x 11 mins @ half marathon pace with 2 mins recovery
DESCRIPTION:3 x 11 mins @ half marathon pace with 2 mins recovery. Rosyth Ferrytoll \nMeet at Pitreavie for run down to venue or meet at  roundabout at Castle Drive\, Rosyth
URL:https://carnegie-harriers.co.uk/race-calendar/training-3-x-11-mins-half-marathon-pace-with-2-mins-recovery/
LOCATION:Castle Road\, Rosyth\, Castle Road\, Rosyth\, Fife\, KY112UU\, United Kingdom
CATEGORIES:Club Training,Training
END:VEVENT
END:VCALENDAR