BEGIN:VCALENDAR
VERSION:2.0
PRODID:-//Carnegie Harriers | Keeping West Fife Running | Dunfermline - ECPv6.15.20//NONSGML v1.0//EN
CALSCALE:GREGORIAN
METHOD:PUBLISH
X-WR-CALNAME:Carnegie Harriers | Keeping West Fife Running | Dunfermline
X-ORIGINAL-URL:https://carnegie-harriers.co.uk
X-WR-CALDESC:Events for Carnegie Harriers | Keeping West Fife Running | Dunfermline
REFRESH-INTERVAL;VALUE=DURATION:PT1H
X-Robots-Tag:noindex
X-PUBLISHED-TTL:PT1H
BEGIN:VTIMEZONE
TZID:UTC
BEGIN:STANDARD
TZOFFSETFROM:+0000
TZOFFSETTO:+0000
TZNAME:UTC
DTSTART:20170101T000000
END:STANDARD
END:VTIMEZONE
BEGIN:VEVENT
DTSTART;TZID=UTC:20180208T183000
DTEND;TZID=UTC:20180208T193000
DTSTAMP:20260418T235716
CREATED:20180203T141354Z
LAST-MODIFIED:20180203T141354Z
UID:910-1518114600-1518118200@carnegie-harriers.co.uk
SUMMARY:Training: Tempo run: 30 mins at Threshold Pace
DESCRIPTION:Training: Tempo run: 30 mins at Threshold Pace \nCorner of Fergusson Road\, Lapwing Drive
URL:https://carnegie-harriers.co.uk/race-calendar/training-tempo-run-30-mins-threshold-pace-2/
LOCATION:Lapwing Drive\, Lapwing Drive Dunfermline\, Dunfermline\, Fife\, KY11 8NB\, United Kingdom
CATEGORIES:Club Training,Training
END:VEVENT
END:VCALENDAR