BEGIN:VCALENDAR
VERSION:2.0
PRODID:-//Carnegie Harriers | Keeping West Fife Running | Dunfermline - ECPv6.15.20//NONSGML v1.0//EN
CALSCALE:GREGORIAN
METHOD:PUBLISH
X-WR-CALNAME:Carnegie Harriers | Keeping West Fife Running | Dunfermline
X-ORIGINAL-URL:https://carnegie-harriers.co.uk
X-WR-CALDESC:Events for Carnegie Harriers | Keeping West Fife Running | Dunfermline
REFRESH-INTERVAL;VALUE=DURATION:PT1H
X-Robots-Tag:noindex
X-PUBLISHED-TTL:PT1H
BEGIN:VTIMEZONE
TZID:UTC
BEGIN:STANDARD
TZOFFSETFROM:+0000
TZOFFSETTO:+0000
TZNAME:UTC
DTSTART:20170101T000000
END:STANDARD
END:VTIMEZONE
BEGIN:VEVENT
DTSTART;TZID=UTC:20180306T180500
DTEND;TZID=UTC:20180306T184500
DTSTAMP:20260418T203856
CREATED:20180307T212018Z
LAST-MODIFIED:20180307T213255Z
UID:1030-1520359500-1520361900@carnegie-harriers.co.uk
SUMMARY:Training : 24 Minute Hill Session
DESCRIPTION:24 Minute continuous efforts.
URL:https://carnegie-harriers.co.uk/race-calendar/training-24-minute-hill-session/
LOCATION:High Street\, City Chambers\, Dunfermline\, Fife\, KY12 7ND\, United Kingdom
CATEGORIES:Club Training,Training
END:VEVENT
BEGIN:VEVENT
DTSTART;TZID=UTC:20180306T183000
DTEND;TZID=UTC:20180306T191500
DTSTAMP:20260418T203856
CREATED:20180307T213350Z
LAST-MODIFIED:20180307T213350Z
UID:1031-1520361000-1520363700@carnegie-harriers.co.uk
SUMMARY:Training : 24 Minute Hill Session
DESCRIPTION:Hill Session. 24 minute continuous effort
URL:https://carnegie-harriers.co.uk/race-calendar/training-24-minute-hill-session-2/
LOCATION:High Street\, City Chambers\, Dunfermline\, Fife\, KY12 7ND\, United Kingdom
CATEGORIES:Club Training,Training
END:VEVENT
END:VCALENDAR