BEGIN:VCALENDAR
VERSION:2.0
PRODID:-//Carnegie Harriers | Keeping West Fife Running | Dunfermline - ECPv6.15.20//NONSGML v1.0//EN
CALSCALE:GREGORIAN
METHOD:PUBLISH
X-ORIGINAL-URL:https://carnegie-harriers.co.uk
X-WR-CALDESC:Events for Carnegie Harriers | Keeping West Fife Running | Dunfermline
REFRESH-INTERVAL;VALUE=DURATION:PT1H
X-Robots-Tag:noindex
X-PUBLISHED-TTL:PT1H
BEGIN:VTIMEZONE
TZID:UTC
BEGIN:STANDARD
TZOFFSETFROM:+0000
TZOFFSETTO:+0000
TZNAME:UTC
DTSTART:20170101T000000
END:STANDARD
END:VTIMEZONE
BEGIN:VEVENT
DTSTART;TZID=UTC:20180329T183000
DTEND;TZID=UTC:20180329T193000
DTSTAMP:20260421T201956
CREATED:20180307T222614Z
LAST-MODIFIED:20180307T222614Z
UID:1044-1522348200-1522351800@carnegie-harriers.co.uk
SUMMARY:Training : Cruise intervals: 5 x 6 mins at Threshold Pace with 1 min recoveries (30 mins effort)
DESCRIPTION:Cruise intervals: 5 x 6 mins at Threshold Pace with 1 min recoveries (30 mins effort) \nCorner of Ferguson Road\, Lapwing Drive \nMeet at Pitreavie for Warm Up run @ 18:30 or go straight to session start point for 18:50 prompt
URL:https://carnegie-harriers.co.uk/race-calendar/training-cruise-intervals-5-x-6-mins-threshold-pace-1-min-recoveries-30-mins-effort/
LOCATION:Lapwing Drive\, Lapwing Drive Dunfermline\, Dunfermline\, Fife\, KY11 8NB\, United Kingdom
CATEGORIES:Club Training,Training
END:VEVENT
END:VCALENDAR