BEGIN:VCALENDAR
VERSION:2.0
PRODID:-//Carnegie Harriers | Keeping West Fife Running | Dunfermline - ECPv6.15.20//NONSGML v1.0//EN
CALSCALE:GREGORIAN
METHOD:PUBLISH
X-WR-CALNAME:Carnegie Harriers | Keeping West Fife Running | Dunfermline
X-ORIGINAL-URL:https://carnegie-harriers.co.uk
X-WR-CALDESC:Events for Carnegie Harriers | Keeping West Fife Running | Dunfermline
REFRESH-INTERVAL;VALUE=DURATION:PT1H
X-Robots-Tag:noindex
X-PUBLISHED-TTL:PT1H
BEGIN:VTIMEZONE
TZID:UTC
BEGIN:STANDARD
TZOFFSETFROM:+0000
TZOFFSETTO:+0000
TZNAME:UTC
DTSTART:20170101T000000
END:STANDARD
END:VTIMEZONE
BEGIN:VEVENT
DTSTART;TZID=UTC:20180419T185000
DTEND;TZID=UTC:20180419T193000
DTSTAMP:20260418T235836
CREATED:20180415T120827Z
LAST-MODIFIED:20180415T120827Z
UID:1100-1524163800-1524166200@carnegie-harriers.co.uk
SUMMARY:Training : Intervals
DESCRIPTION:10 × 1 min at repetition pace\, with 1 min jog/active recoveries \n 
URL:https://carnegie-harriers.co.uk/race-calendar/training-intervals/
LOCATION:Duloch Park\, Nightingale Place\, Dunfermlne\, Fife\, KY11 8LW
CATEGORIES:Club Training,Training
END:VEVENT
END:VCALENDAR