BEGIN:VCALENDAR
VERSION:2.0
PRODID:-//Carnegie Harriers | Keeping West Fife Running | Dunfermline - ECPv6.15.20//NONSGML v1.0//EN
CALSCALE:GREGORIAN
METHOD:PUBLISH
X-ORIGINAL-URL:https://carnegie-harriers.co.uk
X-WR-CALDESC:Events for Carnegie Harriers | Keeping West Fife Running | Dunfermline
REFRESH-INTERVAL;VALUE=DURATION:PT1H
X-Robots-Tag:noindex
X-PUBLISHED-TTL:PT1H
BEGIN:VTIMEZONE
TZID:UTC
BEGIN:STANDARD
TZOFFSETFROM:+0000
TZOFFSETTO:+0000
TZNAME:UTC
DTSTART:20170101T000000
END:STANDARD
END:VTIMEZONE
BEGIN:VEVENT
DTSTART;TZID=UTC:20180607T184500
DTEND;TZID=UTC:20180607T193000
DTSTAMP:20260420T205948
CREATED:20180603T144330Z
LAST-MODIFIED:20180603T144330Z
UID:1154-1528397100-1528399800@carnegie-harriers.co.uk
SUMMARY:Training : Cruise Intervals
DESCRIPTION:Cruise intervals: 4 x 6 mins at Threshold Pace with 1min recoveries. Alternate between the ‘flat’ 1k loop and hilly figure-of-eight 1.2k loop (pace will be slower on hilly loop so concentrate on effort).
URL:https://carnegie-harriers.co.uk/race-calendar/training-cruise-intervals-2/
LOCATION:Pittencrieff Park\, Pittencrieff Street Dunfermline\, Dunfermline\, Fife\, KY12 8QH\, United Kingdom
CATEGORIES:Club Training,Training
END:VEVENT
BEGIN:VEVENT
DTSTART;TZID=UTC:20180607T184500
DTEND;TZID=UTC:20180607T193000
DTSTAMP:20260420T205948
CREATED:20180603T145242Z
LAST-MODIFIED:20180603T145242Z
UID:1159-1528397100-1528399800@carnegie-harriers.co.uk
SUMMARY:Off Road Social Run
DESCRIPTION:Off-road run – Dunfermline to Charlestown and back
URL:https://carnegie-harriers.co.uk/race-calendar/off-road-social-run/
LOCATION:Pittencrieff Park\, Pittencrieff Street Dunfermline\, Dunfermline\, Fife\, KY12 8QH\, United Kingdom
CATEGORIES:Club Training,Training
END:VEVENT
END:VCALENDAR