BEGIN:VCALENDAR
VERSION:2.0
PRODID:-//Carnegie Harriers | Keeping West Fife Running | Dunfermline - ECPv6.15.20//NONSGML v1.0//EN
CALSCALE:GREGORIAN
METHOD:PUBLISH
X-WR-CALNAME:Carnegie Harriers | Keeping West Fife Running | Dunfermline
X-ORIGINAL-URL:https://carnegie-harriers.co.uk
X-WR-CALDESC:Events for Carnegie Harriers | Keeping West Fife Running | Dunfermline
REFRESH-INTERVAL;VALUE=DURATION:PT1H
X-Robots-Tag:noindex
X-PUBLISHED-TTL:PT1H
BEGIN:VTIMEZONE
TZID:UTC
BEGIN:STANDARD
TZOFFSETFROM:+0000
TZOFFSETTO:+0000
TZNAME:UTC
DTSTART:20170101T000000
END:STANDARD
END:VTIMEZONE
BEGIN:VEVENT
DTSTART;TZID=UTC:20180612T184500
DTEND;TZID=UTC:20180612T193000
DTSTAMP:20260422T004403
CREATED:20180603T143701Z
LAST-MODIFIED:20180603T143701Z
UID:1148-1528829100-1528831800@carnegie-harriers.co.uk
SUMMARY:Training : 30-30 Sprint Session
DESCRIPTION:30 – 30 ‘sprint’ session – Repetition Pace (actually a VO2m session in disguise\, aim for 15-20 reps with 30 secs rest between each) \nPitreavie Playing Fields
URL:https://carnegie-harriers.co.uk/race-calendar/training-30-30-sprint-session-4/
LOCATION:Pitreavie Playing Fields\, Queensferry Road\, Dunfermline\, Fife\, KY11 8PP
CATEGORIES:Club Training,Training
END:VEVENT
END:VCALENDAR