BEGIN:VCALENDAR
VERSION:2.0
PRODID:-//Carnegie Harriers | Keeping West Fife Running | Dunfermline - ECPv6.15.20//NONSGML v1.0//EN
CALSCALE:GREGORIAN
METHOD:PUBLISH
X-WR-CALNAME:Carnegie Harriers | Keeping West Fife Running | Dunfermline
X-ORIGINAL-URL:https://carnegie-harriers.co.uk
X-WR-CALDESC:Events for Carnegie Harriers | Keeping West Fife Running | Dunfermline
REFRESH-INTERVAL;VALUE=DURATION:PT1H
X-Robots-Tag:noindex
X-PUBLISHED-TTL:PT1H
BEGIN:VTIMEZONE
TZID:UTC
BEGIN:STANDARD
TZOFFSETFROM:+0000
TZOFFSETTO:+0000
TZNAME:UTC
DTSTART:20170101T000000
END:STANDARD
END:VTIMEZONE
BEGIN:VEVENT
DTSTART;TZID=UTC:20180614T184500
DTEND;TZID=UTC:20180614T193000
DTSTAMP:20260418T203803
CREATED:20180603T144510Z
LAST-MODIFIED:20180603T144510Z
UID:1156-1529001900-1529004600@carnegie-harriers.co.uk
SUMMARY:Training : Cruise Intervals
DESCRIPTION:Cruise intervals: 5 x 6 mins at Threshold Pace with 1min recoveries\, followed by 4×45s (c.200m) Repetitions with 90s jog recoveries. Alternate between the ‘flat’ 1k loop and hilly 1.2k loop (45s reps on the flat).
URL:https://carnegie-harriers.co.uk/race-calendar/training-cruise-intervals-4/
LOCATION:Pittencrieff Park\, Pittencrieff Street Dunfermline\, Dunfermline\, Fife\, KY12 8QH\, United Kingdom
CATEGORIES:Club Training,Training
END:VEVENT
END:VCALENDAR