BEGIN:VCALENDAR
VERSION:2.0
PRODID:-//Carnegie Harriers | Keeping West Fife Running | Dunfermline - ECPv6.15.20//NONSGML v1.0//EN
CALSCALE:GREGORIAN
METHOD:PUBLISH
X-ORIGINAL-URL:https://carnegie-harriers.co.uk
X-WR-CALDESC:Events for Carnegie Harriers | Keeping West Fife Running | Dunfermline
REFRESH-INTERVAL;VALUE=DURATION:PT1H
X-Robots-Tag:noindex
X-PUBLISHED-TTL:PT1H
BEGIN:VTIMEZONE
TZID:UTC
BEGIN:STANDARD
TZOFFSETFROM:+0000
TZOFFSETTO:+0000
TZNAME:UTC
DTSTART:20170101T000000
END:STANDARD
END:VTIMEZONE
BEGIN:VEVENT
DTSTART;TZID=UTC:20180628T184500
DTEND;TZID=UTC:20180628T193000
DTSTAMP:20260422T004657
CREATED:20180603T144912Z
LAST-MODIFIED:20180603T144912Z
UID:1158-1530211500-1530214200@carnegie-harriers.co.uk
SUMMARY:Training : Interval Session
DESCRIPTION:6 × 4min VO2max intervals with 3min recoveries \nPittencrieff Park top loop (flat)
URL:https://carnegie-harriers.co.uk/race-calendar/training-interval-session-2/
LOCATION:Pittencrieff Park\, Pittencrieff Street Dunfermline\, Dunfermline\, Fife\, KY12 8QH\, United Kingdom
CATEGORIES:Club Training,Training
END:VEVENT
END:VCALENDAR