BEGIN:VCALENDAR
VERSION:2.0
PRODID:-//Carnegie Harriers | Keeping West Fife Running | Dunfermline - ECPv6.15.20//NONSGML v1.0//EN
CALSCALE:GREGORIAN
METHOD:PUBLISH
X-ORIGINAL-URL:https://carnegie-harriers.co.uk
X-WR-CALDESC:Events for Carnegie Harriers | Keeping West Fife Running | Dunfermline
REFRESH-INTERVAL;VALUE=DURATION:PT1H
X-Robots-Tag:noindex
X-PUBLISHED-TTL:PT1H
BEGIN:VTIMEZONE
TZID:UTC
BEGIN:STANDARD
TZOFFSETFROM:+0000
TZOFFSETTO:+0000
TZNAME:UTC
DTSTART:20170101T000000
END:STANDARD
END:VTIMEZONE
BEGIN:VEVENT
DTSTART;TZID=UTC:20180906T183000
DTEND;TZID=UTC:20180906T193000
DTSTAMP:20260422T051548
CREATED:20180906T120101Z
LAST-MODIFIED:20180906T120101Z
UID:1357-1536258600-1536262200@carnegie-harriers.co.uk
SUMMARY:Training: Pyramid Session
DESCRIPTION:Pyramid Session 1\,1\,2\,2\,3\,4\,5\,4\,3\,2\,2\,1\,1 @ VO2max/\n5k pace with 1 min recovery between efforts \nAlternative group run – details TBC
URL:https://carnegie-harriers.co.uk/race-calendar/training-pyramid-session-4/
LOCATION:Pitreavie Playing Fields\, Queensferry Road\, Dunfermline\, Fife\, KY11 8PP
CATEGORIES:Club Training,Training
END:VEVENT
END:VCALENDAR