BEGIN:VCALENDAR
VERSION:2.0
PRODID:-//Carnegie Harriers | Keeping West Fife Running | Dunfermline - ECPv6.15.20//NONSGML v1.0//EN
CALSCALE:GREGORIAN
METHOD:PUBLISH
X-WR-CALNAME:Carnegie Harriers | Keeping West Fife Running | Dunfermline
X-ORIGINAL-URL:https://carnegie-harriers.co.uk
X-WR-CALDESC:Events for Carnegie Harriers | Keeping West Fife Running | Dunfermline
REFRESH-INTERVAL;VALUE=DURATION:PT1H
X-Robots-Tag:noindex
X-PUBLISHED-TTL:PT1H
BEGIN:VTIMEZONE
TZID:UTC
BEGIN:STANDARD
TZOFFSETFROM:+0000
TZOFFSETTO:+0000
TZNAME:UTC
DTSTART:20170101T000000
END:STANDARD
END:VTIMEZONE
BEGIN:VEVENT
DTSTART;TZID=UTC:20180920T183000
DTEND;TZID=UTC:20180920T193000
DTSTAMP:20260422T052754
CREATED:20180906T121031Z
LAST-MODIFIED:20180906T121031Z
UID:1361-1537468200-1537471800@carnegie-harriers.co.uk
SUMMARY:Training: 30/30 session
DESCRIPTION:30/30 session – 30 seconds sprint with 30 second recoveries (particularly useful for those taking part in Sunday’s half marathon) \nAlternative group run – details TBC
URL:https://carnegie-harriers.co.uk/race-calendar/training-30-30-session/
LOCATION:Pitreavie Playing Fields\, Queensferry Road\, Dunfermline\, Fife\, KY11 8PP
CATEGORIES:Club Training,Training
END:VEVENT
END:VCALENDAR