BEGIN:VCALENDAR
VERSION:2.0
PRODID:-//Carnegie Harriers | Keeping West Fife Running | Dunfermline - ECPv6.15.20//NONSGML v1.0//EN
CALSCALE:GREGORIAN
METHOD:PUBLISH
X-ORIGINAL-URL:https://carnegie-harriers.co.uk
X-WR-CALDESC:Events for Carnegie Harriers | Keeping West Fife Running | Dunfermline
REFRESH-INTERVAL;VALUE=DURATION:PT1H
X-Robots-Tag:noindex
X-PUBLISHED-TTL:PT1H
BEGIN:VTIMEZONE
TZID:UTC
BEGIN:STANDARD
TZOFFSETFROM:+0000
TZOFFSETTO:+0000
TZNAME:UTC
DTSTART:20170101T000000
END:STANDARD
END:VTIMEZONE
BEGIN:VEVENT
DTSTART;TZID=UTC:20181127T183000
DTEND;TZID=UTC:20181127T200000
DTSTAMP:20260422T082739
CREATED:20181107T164719Z
LAST-MODIFIED:20181107T170124Z
UID:1493-1543343400-1543348800@carnegie-harriers.co.uk
SUMMARY:Training - Short Hill Repetitions x 15
DESCRIPTION:Short Hill Repetitions: \n1 min uphill with 2 mins cool down/jog return to start x 15 \nPittencrieff Park (The Glen)
URL:https://carnegie-harriers.co.uk/race-calendar/training-short-hill-repetitions-x-15/
LOCATION:Pittencrieff Park\, Pittencrieff Street Dunfermline\, Dunfermline\, Fife\, KY12 8QH\, United Kingdom
CATEGORIES:Club Training,Training
END:VEVENT
END:VCALENDAR