BEGIN:VCALENDAR
VERSION:2.0
PRODID:-//Carnegie Harriers | Keeping West Fife Running | Dunfermline - ECPv6.15.20//NONSGML v1.0//EN
CALSCALE:GREGORIAN
METHOD:PUBLISH
X-WR-CALNAME:Carnegie Harriers | Keeping West Fife Running | Dunfermline
X-ORIGINAL-URL:https://carnegie-harriers.co.uk
X-WR-CALDESC:Events for Carnegie Harriers | Keeping West Fife Running | Dunfermline
REFRESH-INTERVAL;VALUE=DURATION:PT1H
X-Robots-Tag:noindex
X-PUBLISHED-TTL:PT1H
BEGIN:VTIMEZONE
TZID:UTC
BEGIN:STANDARD
TZOFFSETFROM:+0000
TZOFFSETTO:+0000
TZNAME:UTC
DTSTART:20170101T000000
END:STANDARD
END:VTIMEZONE
BEGIN:VEVENT
DTSTART;TZID=UTC:20181204T183000
DTEND;TZID=UTC:20181204T200000
DTSTAMP:20260418T203948
CREATED:20181107T170818Z
LAST-MODIFIED:20181107T172011Z
UID:1495-1543948200-1543953600@carnegie-harriers.co.uk
SUMMARY:Training - Hill Session: 20 minutes
DESCRIPTION:Hill Session: 20 minutes total duration (including efforts and recoveries) \nPublic Park\, Dunfermline
URL:https://carnegie-harriers.co.uk/race-calendar/training-hill-session-20-minutes/
LOCATION:Dunfermline Public Park\, Dunferline Public Park\, Dunfermline\, Fife\, KY12 7YN
CATEGORIES:Club Training,Training
END:VEVENT
END:VCALENDAR