BEGIN:VCALENDAR
VERSION:2.0
PRODID:-//Carnegie Harriers | Keeping West Fife Running | Dunfermline - ECPv6.15.20//NONSGML v1.0//EN
CALSCALE:GREGORIAN
METHOD:PUBLISH
X-WR-CALNAME:Carnegie Harriers | Keeping West Fife Running | Dunfermline
X-ORIGINAL-URL:https://carnegie-harriers.co.uk
X-WR-CALDESC:Events for Carnegie Harriers | Keeping West Fife Running | Dunfermline
REFRESH-INTERVAL;VALUE=DURATION:PT1H
X-Robots-Tag:noindex
X-PUBLISHED-TTL:PT1H
BEGIN:VTIMEZONE
TZID:UTC
BEGIN:STANDARD
TZOFFSETFROM:+0000
TZOFFSETTO:+0000
TZNAME:UTC
DTSTART:19690101T000000
END:STANDARD
END:VTIMEZONE
BEGIN:VEVENT
DTSTART;TZID=UTC:20260421T155120
DTEND;TZID=UTC:20260421T155120
DTSTAMP:20260421T155120
CREATED:20200307T164912Z
LAST-MODIFIED:20200307T164912Z
UID:2827-0-0@carnegie-harriers.co.uk
SUMMARY:Dunfermline
DESCRIPTION:
URL:https://carnegie-harriers.co.uk/race-calendar/dunfermline/
CATEGORIES:United Kingdom
END:VEVENT
BEGIN:VEVENT
DTSTART;TZID=UTC:20260421T155120
DTEND;TZID=UTC:20260421T155120
DTSTAMP:20260421T155120
CREATED:20200307T164912Z
LAST-MODIFIED:20200307T164912Z
UID:2828-0-0@carnegie-harriers.co.uk
SUMMARY:Queensferry Road
DESCRIPTION:
URL:https://carnegie-harriers.co.uk/race-calendar/queensferry-road/
CATEGORIES:United Kingdom
END:VEVENT
END:VCALENDAR