BEGIN:VCALENDAR
VERSION:2.0
PRODID:-//Carnegie Harriers | Keeping West Fife Running | Dunfermline - ECPv6.15.20//NONSGML v1.0//EN
CALSCALE:GREGORIAN
METHOD:PUBLISH
X-WR-CALNAME:Carnegie Harriers | Keeping West Fife Running | Dunfermline
X-ORIGINAL-URL:https://carnegie-harriers.co.uk
X-WR-CALDESC:Events for Carnegie Harriers | Keeping West Fife Running | Dunfermline
REFRESH-INTERVAL;VALUE=DURATION:PT1H
X-Robots-Tag:noindex
X-PUBLISHED-TTL:PT1H
BEGIN:VTIMEZONE
TZID:Europe/Dublin
BEGIN:STANDARD
TZOFFSETFROM:+0000
TZOFFSETTO:+0100
TZNAME:IST
DTSTART:20240331T010000
END:STANDARD
BEGIN:DAYLIGHT
TZOFFSETFROM:+0100
TZOFFSETTO:+0000
TZNAME:GMT
DTSTART:20241027T010000
END:DAYLIGHT
BEGIN:STANDARD
TZOFFSETFROM:+0000
TZOFFSETTO:+0100
TZNAME:IST
DTSTART:20250330T010000
END:STANDARD
BEGIN:DAYLIGHT
TZOFFSETFROM:+0100
TZOFFSETTO:+0000
TZNAME:GMT
DTSTART:20251026T010000
END:DAYLIGHT
BEGIN:STANDARD
TZOFFSETFROM:+0000
TZOFFSETTO:+0100
TZNAME:IST
DTSTART:20260329T010000
END:STANDARD
BEGIN:DAYLIGHT
TZOFFSETFROM:+0100
TZOFFSETTO:+0000
TZNAME:GMT
DTSTART:20261025T010000
END:DAYLIGHT
END:VTIMEZONE
BEGIN:VTIMEZONE
TZID:UTC
BEGIN:STANDARD
TZOFFSETFROM:+0000
TZOFFSETTO:+0000
TZNAME:UTC
DTSTART:20210101T000000
END:STANDARD
END:VTIMEZONE
BEGIN:VEVENT
DTSTART;TZID=Europe/Dublin:20250713T110000
DTEND;TZID=Europe/Dublin:20250713T143000
DTSTAMP:20260425T154122
CREATED:20250222T111925Z
LAST-MODIFIED:20250329T124402Z
UID:7000-1752404400-1752417000@carnegie-harriers.co.uk
SUMMARY:Crieff 10k (Nat mid-Trail Champs)
DESCRIPTION:Crieff 10k (Nat mid-Trail Champs) \nhttps://www.entrycentral.com/Crieff10k?fbclid=IwY2xjawJUybRleHRuA2FlbQIxMAABHZzmIm0jy5BhEmvet_zHrcDPvoRGsdwKcdlhsyrtniQtlvZAi73EHImvmQ_aem_Tnik6K5lO8m0GDH-n6bkmg
URL:https://carnegie-harriers.co.uk/race-calendar/crieff-10k-nat-mid-trail-champs-2/
LOCATION:Morrison’s Academy Sports Ground (Dallerie)\, 11B Sauchie Rd\, Crieff\, PH7 4EN\, United Kingdom
CATEGORIES:Trail GP
END:VEVENT
BEGIN:VEVENT
DTSTART;TZID=Europe/Dublin:20250626T190000
DTEND;TZID=Europe/Dublin:20250626T210000
DTSTAMP:20260425T154122
CREATED:20250222T111923Z
LAST-MODIFIED:20250303T201751Z
UID:6999-1750964400-1750971600@carnegie-harriers.co.uk
SUMMARY:Milnathort Dash
DESCRIPTION:Milnathort Dash\, Milnathort \nROAD – SHORT Register your interest here (tick Milnathort Dash)
URL:https://carnegie-harriers.co.uk/race-calendar/milnathort-dash/
LOCATION:Milnathort\, Wester Loan\, KY129YH\, United Kingdom
CATEGORIES:Road Short GP
END:VEVENT
BEGIN:VEVENT
DTSTART;TZID=Europe/Dublin:20250604T000000
DTEND;TZID=Europe/Dublin:20250604T000000
DTSTAMP:20260425T154122
CREATED:20250222T111923Z
LAST-MODIFIED:20250222T111923Z
UID:6998-1748995200-1748995200@carnegie-harriers.co.uk
SUMMARY:Red Moss Kips
DESCRIPTION:Red Moss Kips\, Balerno
URL:https://carnegie-harriers.co.uk/race-calendar/red-moss-kips/
CATEGORIES:Hill GP
END:VEVENT
BEGIN:VEVENT
DTSTART;TZID=Europe/Dublin:20250511T110000
DTEND;TZID=Europe/Dublin:20250511T140000
DTSTAMP:20260425T154122
CREATED:20250222T111923Z
LAST-MODIFIED:20250303T201902Z
UID:6997-1746961200-1746972000@carnegie-harriers.co.uk
SUMMARY:Loch Leven Half  (ED 1/2 mar champs)
DESCRIPTION:Loch Leven Half\, Kinross (ED 1/2 mar champs) \nROAD – LONG  \nEntries open on EntryCentral here
URL:https://carnegie-harriers.co.uk/race-calendar/loch-leven-half-ed-1-2-mar-champs/
LOCATION:Kinross\, Clashburn Road\, KInross\, KY138GB\, United Kingdom
CATEGORIES:Road Long GP
END:VEVENT
BEGIN:VEVENT
DTSTART;TZID=Europe/Dublin:20250507T190000
DTEND;TZID=Europe/Dublin:20250507T210000
DTSTAMP:20260425T154122
CREATED:20250222T111922Z
LAST-MODIFIED:20250303T202214Z
UID:6996-1746644400-1746651600@carnegie-harriers.co.uk
SUMMARY:Dumyat Hill Race
DESCRIPTION:Dumyat Hill Race\, Stirling Uni \nHILL Entries open on EventBrite here \n 
URL:https://carnegie-harriers.co.uk/race-calendar/dumyat-hill-race/
LOCATION:Stirling University\, Stirling Uni Sport\, Stirling\, FK9 4LA\, United Kingdom
CATEGORIES:Hill GP
END:VEVENT
BEGIN:VEVENT
DTSTART;TZID=Europe/Dublin:20250412T130000
DTEND;TZID=Europe/Dublin:20250412T150000
DTSTAMP:20260425T154122
CREATED:20250222T111922Z
LAST-MODIFIED:20250303T204046Z
UID:6995-1744462800-1744470000@carnegie-harriers.co.uk
SUMMARY:Hunters Bog Trot
DESCRIPTION:Hunters Bog Trot\, Edinburgh
URL:https://carnegie-harriers.co.uk/race-calendar/hunters-bog-trot/
LOCATION:Arthurs Seat\, Edinburgh\, EH88HG
CATEGORIES:Hill GP
END:VEVENT
BEGIN:VEVENT
DTSTART;TZID=UTC:20230212T080000
DTEND;TZID=UTC:20230212T150000
DTSTAMP:20260425T154122
CREATED:20230106T202846Z
LAST-MODIFIED:20230106T202846Z
UID:5034-1676188800-1676214000@carnegie-harriers.co.uk
SUMMARY:Devilla Forest Races 5k and 15k 2023
DESCRIPTION:
URL:https://carnegie-harriers.co.uk/race-calendar/devilla-forest-races-5k-and-15k-2023/
LOCATION:Devilla\, Scottish Police College\, Kincardine\, Fife\, FK10 4BE\, United Kingdom
CATEGORIES:Races
END:VEVENT
BEGIN:VEVENT
DTSTART;TZID=UTC:20221105T140000
DTEND;TZID=UTC:20221105T160000
DTSTAMP:20260425T154122
CREATED:20220207T162238Z
LAST-MODIFIED:20220207T162238Z
UID:4566-1667656800-1667664000@carnegie-harriers.co.uk
SUMMARY:2022 Hill GP Event No 15 - Tinto Hill Race
DESCRIPTION:
URL:https://carnegie-harriers.co.uk/race-calendar/2022-hill-gp-event-no-15-tinto-hill-race/
CATEGORIES:Races
END:VEVENT
BEGIN:VEVENT
DTSTART;TZID=UTC:20221001T120000
DTEND;TZID=UTC:20221001T130000
DTSTAMP:20260425T154122
CREATED:20220207T162120Z
LAST-MODIFIED:20220207T162120Z
UID:4565-1664625600-1664629200@carnegie-harriers.co.uk
SUMMARY:2022 Hill GP Event No 14 - Yetholm Shepherds Show Hill Race
DESCRIPTION:
URL:https://carnegie-harriers.co.uk/race-calendar/2022-hill-gp-event-no-14-yetholm-shepherds-show-hill-race/
CATEGORIES:Races
END:VEVENT
BEGIN:VEVENT
DTSTART;TZID=UTC:20220827T120000
DTEND;TZID=UTC:20220827T170000
DTSTAMP:20260425T154122
CREATED:20220207T161940Z
LAST-MODIFIED:20220207T161940Z
UID:4564-1661601600-1661619600@carnegie-harriers.co.uk
SUMMARY:2022 Hill GP Event No 13 - Ochil 2000s Hill Race
DESCRIPTION:
URL:https://carnegie-harriers.co.uk/race-calendar/2022-hill-gp-event-no-13-ochil-2000s-hill-race/
CATEGORIES:Races
END:VEVENT
BEGIN:VEVENT
DTSTART;TZID=UTC:20220821T130000
DTEND;TZID=UTC:20220821T170000
DTSTAMP:20260425T154122
CREATED:20220207T161812Z
LAST-MODIFIED:20220207T161812Z
UID:4563-1661086800-1661101200@carnegie-harriers.co.uk
SUMMARY:2022 Hill GP Event No 12 - Lomonds of Fife Hill Race
DESCRIPTION:
URL:https://carnegie-harriers.co.uk/race-calendar/2022-hill-gp-event-no-12-lomonds-of-fife-hill-race/
CATEGORIES:Races
END:VEVENT
BEGIN:VEVENT
DTSTART;TZID=UTC:20220807T110000
DTEND;TZID=UTC:20220807T140000
DTSTAMP:20260425T154122
CREATED:20220207T161616Z
LAST-MODIFIED:20220207T161616Z
UID:4562-1659870000-1659880800@carnegie-harriers.co.uk
SUMMARY:2022 Hill GP Event No 11 - Philiphaugh Hill Race
DESCRIPTION:
URL:https://carnegie-harriers.co.uk/race-calendar/2022-hill-gp-event-no-11-philiphaugh-hill-race/
CATEGORIES:Races
END:VEVENT
BEGIN:VEVENT
DTSTART;TZID=UTC:20220710T143000
DTEND;TZID=UTC:20220710T170000
DTSTAMP:20260425T154122
CREATED:20220207T161340Z
LAST-MODIFIED:20220207T161340Z
UID:4561-1657463400-1657472400@carnegie-harriers.co.uk
SUMMARY:2022 Hill GP Event No 10 - Dollar Hill Race
DESCRIPTION:
URL:https://carnegie-harriers.co.uk/race-calendar/2022-hill-gp-event-no-10-dollar-hill-race/
CATEGORIES:Races
END:VEVENT
BEGIN:VEVENT
DTSTART;TZID=UTC:20220702T080000
DTEND;TZID=UTC:20220702T170000
DTSTAMP:20260425T154122
CREATED:20220207T161202Z
LAST-MODIFIED:20220207T161202Z
UID:4560-1656748800-1656781200@carnegie-harriers.co.uk
SUMMARY:2022 Hill GP Event No 9 - Durisdeer Hill Race
DESCRIPTION:SHR Championship Event
URL:https://carnegie-harriers.co.uk/race-calendar/2022-hill-gp-event-no-9-durisdeer-hill-race/
CATEGORIES:Races
END:VEVENT
BEGIN:VEVENT
DTSTART;TZID=UTC:20220618T130000
DTEND;TZID=UTC:20220618T150000
DTSTAMP:20260425T154122
CREATED:20220207T161038Z
LAST-MODIFIED:20220207T161038Z
UID:4559-1655557200-1655564400@carnegie-harriers.co.uk
SUMMARY:2022 Hill GP Event No 8 - Falkland Hill Race
DESCRIPTION:
URL:https://carnegie-harriers.co.uk/race-calendar/2022-hill-gp-event-no-8-falkland-hill-race/
CATEGORIES:Races
END:VEVENT
BEGIN:VEVENT
DTSTART;TZID=UTC:20220608T193000
DTEND;TZID=UTC:20220608T210000
DTSTAMP:20260425T154122
CREATED:20220207T160917Z
LAST-MODIFIED:20220207T160917Z
UID:4558-1654716600-1654722000@carnegie-harriers.co.uk
SUMMARY:2022 Hill GP Event No 7 - Red Moss Kips Hill Race
DESCRIPTION:
URL:https://carnegie-harriers.co.uk/race-calendar/2022-hill-gp-event-no-7-red-moss-kips-hill-race/
CATEGORIES:Races
END:VEVENT
BEGIN:VEVENT
DTSTART;TZID=UTC:20220514T143000
DTEND;TZID=UTC:20220514T163000
DTSTAMP:20260425T154122
CREATED:20220207T160635Z
LAST-MODIFIED:20220207T160635Z
UID:4556-1652538600-1652545800@carnegie-harriers.co.uk
SUMMARY:2022 Hill GP Event No 6 - Normans Law Hill Race
DESCRIPTION:
URL:https://carnegie-harriers.co.uk/race-calendar/2022-hill-gp-event-no-6-normans-law-hill-race/
LOCATION:Luthrie Village Hall\, Luthrie\, Cupar\, United Kingdom
CATEGORIES:Races
END:VEVENT
BEGIN:VEVENT
DTSTART;TZID=UTC:20220511T190000
DTEND;TZID=UTC:20220511T210000
DTSTAMP:20260425T154122
CREATED:20220207T160258Z
LAST-MODIFIED:20220425T150935Z
UID:4555-1652295600-1652302800@carnegie-harriers.co.uk
SUMMARY:2022 Hill GP Event No 5 - Dumyat Hill Race
DESCRIPTION:Pre-entry only.
URL:https://carnegie-harriers.co.uk/race-calendar/2022-hill-gp-event-no-5-dumyat-hill-race/
LOCATION:University of Stirling\, Stirling\, FK9 4LA\, United Kingdom
CATEGORIES:Races
END:VEVENT
BEGIN:VEVENT
DTSTART;TZID=UTC:20220430T130000
DTEND;TZID=UTC:20220430T170000
DTSTAMP:20260425T154122
CREATED:20220207T155933Z
LAST-MODIFIED:20220207T155933Z
UID:4553-1651323600-1651338000@carnegie-harriers.co.uk
SUMMARY:2022 Hill GP Event No 4 - Stuc a Chroin Hill Race
DESCRIPTION:SHR Championship Event
URL:https://carnegie-harriers.co.uk/race-calendar/2022-hill-gp-event-no-4-stuc-a-chroin-hill-race/
LOCATION:Strathyre\, Main Street\, Strathyre\, Perth & Kinross\, United Kingdom
CATEGORIES:Races
END:VEVENT
BEGIN:VEVENT
DTSTART;TZID=UTC:20220409T120000
DTEND;TZID=UTC:20220409T170000
DTSTAMP:20260425T154122
CREATED:20220207T154742Z
LAST-MODIFIED:20220207T154742Z
UID:4551-1649505600-1649523600@carnegie-harriers.co.uk
SUMMARY:2022 Hill GP Event No 3 - Clachnaben Hill Race
DESCRIPTION:SHR Championship Race
URL:https://carnegie-harriers.co.uk/race-calendar/2022-hill-gp-event-no-3-clachnaben-hill-race/
LOCATION:Clachnaben Hill\, By Strachan\, Banchory\, Aberdeenshire\, United Kingdom
CATEGORIES:Races
END:VEVENT
BEGIN:VEVENT
DTSTART;TZID=UTC:20220327T103000
DTEND;TZID=UTC:20220327T123000
DTSTAMP:20260425T154122
CREATED:20211031T181201Z
LAST-MODIFIED:20220207T151914Z
UID:4412-1648377000-1648384200@carnegie-harriers.co.uk
SUMMARY:Winter 2021/22 GP Event 14 - Festive Forest Run
DESCRIPTION:Event dependent on route being clear.
URL:https://carnegie-harriers.co.uk/race-calendar/festive-forest-run-2/
LOCATION:Blairadam\, Blairadam Forest Blairadam\, Kelty\, Fife\, KY4 0JW\, United Kingdom
CATEGORIES:Races,Winter GP 2021/22
END:VEVENT
BEGIN:VEVENT
DTSTART;TZID=UTC:20220320T080000
DTEND;TZID=UTC:20220320T130000
DTSTAMP:20260425T154122
CREATED:20211031T182342Z
LAST-MODIFIED:20220207T151738Z
UID:4419-1647763200-1647781200@carnegie-harriers.co.uk
SUMMARY:Winter 2021/22 Event 13 - Alloa Half Marathon
DESCRIPTION:For further information\, visit the event website: http://www.alloahalfmarathon.co.uk/ \n 
URL:https://carnegie-harriers.co.uk/race-calendar/winter-2021-22-event-13-alloa-half-marathon/
LOCATION:Lornshill Academy\, Tullibody Road\, Alloa\, Clackmannanshire\, FK10 2ES\, United Kingdom
CATEGORIES:Races,Winter GP 2021/22
END:VEVENT
BEGIN:VEVENT
DTSTART;TZID=UTC:20220313T080000
DTEND;TZID=UTC:20220313T170000
DTSTAMP:20260425T154122
CREATED:20211031T182251Z
LAST-MODIFIED:20220207T153214Z
UID:4418-1647158400-1647190800@carnegie-harriers.co.uk
SUMMARY:Winter 2021/22 GP Event 12 - Gartmorn 6 OR Club members only 10 miler
DESCRIPTION:Provisional event\, awaiting confirmation from organisers that race will take place in 2022. \nIf the race does not proceed\, there will be a club members only 10 mile multi-terrain event over the West Fife Woodlands Way.
URL:https://carnegie-harriers.co.uk/race-calendar/winter-2021-22-gp-event-12-gartmorn-6/
CATEGORIES:Races,Winter GP 2021/22
END:VEVENT
BEGIN:VEVENT
DTSTART;TZID=UTC:20220306T133000
DTEND;TZID=UTC:20220306T160000
DTSTAMP:20260425T154122
CREATED:20220207T154000Z
LAST-MODIFIED:20220207T154000Z
UID:4549-1646573400-1646582400@carnegie-harriers.co.uk
SUMMARY:2022 Hill GP Event  No 2 - Bishop Hill Race
DESCRIPTION:
URL:https://carnegie-harriers.co.uk/race-calendar/2022-hill-gp-event-no-2-bishop-hill-race/
LOCATION:Portmoak Village Hall\, Scotlandwell\, Fife\, KY13 9JA\, United Kingdom
CATEGORIES:Races
END:VEVENT
BEGIN:VEVENT
DTSTART;TZID=UTC:20220226T123000
DTEND;TZID=UTC:20220226T153000
DTSTAMP:20260425T154122
CREATED:20211031T181953Z
LAST-MODIFIED:20220128T191342Z
UID:4417-1645878600-1645889400@carnegie-harriers.co.uk
SUMMARY:Winter 2021/22 GP Event 11 - National XC Championships
DESCRIPTION:Pre-entry only via the club. Entries close Thursday 10th February 2022. \nBoth women and men run 10k\, women’s race starts at 12:55 and men’s race at 14:30.
URL:https://carnegie-harriers.co.uk/race-calendar/winter-2021-22-gp-event-11-national-xc-championships/
LOCATION:Callandar Park\, Callendar House\, Falkirk\, Falkirk\, FK1 1YR\, United Kingdom
CATEGORIES:Races,Winter GP 2021/22
END:VEVENT
BEGIN:VEVENT
DTSTART;TZID=UTC:20220224T080000
DTEND;TZID=UTC:20220224T170000
DTSTAMP:20260425T154122
CREATED:20220207T182242Z
LAST-MODIFIED:20220207T182242Z
UID:4578-1645689600-1645722000@carnegie-harriers.co.uk
SUMMARY:Training - Progessive Pace Mile Repeats
DESCRIPTION:3 x 1 mile at increasing pace: \nMile 1 @ slower than target 10k pace \nMile 2 @ target 10k pace \nMile 3 @ faster than target 10k pace \n1/3 of effort recovery between each \nMeet on Grange Drive\, diagonally opposite King Malcolm Hotel
URL:https://carnegie-harriers.co.uk/race-calendar/training-progessive-pace-mile-repeats/
LOCATION:Pitreavie Industrial Estate\, Pitreavie Cresent\, Dunfermline\, Fife\, KY11 8UA
CATEGORIES:Training
END:VEVENT
BEGIN:VEVENT
DTSTART;TZID=UTC:20220222T183000
DTEND;TZID=UTC:20220222T200000
DTSTAMP:20260425T154122
CREATED:20220207T182001Z
LAST-MODIFIED:20220207T182001Z
UID:4577-1645554600-1645560000@carnegie-harriers.co.uk
SUMMARY:Training - Tempo Session
DESCRIPTION:35 minutes continuous running as per issued pace guide.
URL:https://carnegie-harriers.co.uk/race-calendar/training-tempo-session-4/
LOCATION:Lapwing Drive\, Lapwing Drive Dunfermline\, Dunfermline\, Fife\, KY11 8NB\, United Kingdom
CATEGORIES:Training
END:VEVENT
BEGIN:VEVENT
DTSTART;TZID=UTC:20220220T100000
DTEND;TZID=UTC:20220220T140000
DTSTAMP:20260425T154122
CREATED:20220207T152757Z
LAST-MODIFIED:20220207T153056Z
UID:4548-1645351200-1645365600@carnegie-harriers.co.uk
SUMMARY:Winter 2021/22 GP Event No 10 - Battle of Inverkeithing XC
DESCRIPTION:Closed event for club members only. Race will be approximately 6k long\, comprising one short and two long loops of the course.
URL:https://carnegie-harriers.co.uk/race-calendar/winter-2021-22-gp-event-no-10-battle-of-inverkeithing-xc/
LOCATION:Castle Drive\, Dunfermline\, Castle Drive Near Sky TV\, Dunfermline\, Fife\, KY11 8FX\, United Kingdom
CATEGORIES:Races,Winter GP 2021/22
END:VEVENT
BEGIN:VEVENT
DTSTART;TZID=UTC:20220217T183000
DTEND;TZID=UTC:20220217T200000
DTSTAMP:20260425T154122
CREATED:20220207T181749Z
LAST-MODIFIED:20220209T160324Z
UID:4576-1645122600-1645128000@carnegie-harriers.co.uk
SUMMARY:Training - "400s"
DESCRIPTION:Up to 10 x 400m efforts with 2 minute recoveries between each. \nBegin at slightly slower than your 10k race pace\, then gradually speed up so that your last repeat is slightly faster than your 5k race pace.
URL:https://carnegie-harriers.co.uk/race-calendar/training-500s/
LOCATION:Pitreavie Ind Est\, Pitreavie Dunfermline\, Dunfermline\, Fife\, KY11 8UA\, United Kingdom
CATEGORIES:Training
END:VEVENT
BEGIN:VEVENT
DTSTART;TZID=UTC:20220215T183000
DTEND;TZID=UTC:20220215T200000
DTSTAMP:20260425T154122
CREATED:20220207T181252Z
LAST-MODIFIED:20220207T181252Z
UID:4575-1644949800-1644955200@carnegie-harriers.co.uk
SUMMARY:Training - Tempo Session
DESCRIPTION:30 minutes continuous running as per issued pace guide
URL:https://carnegie-harriers.co.uk/race-calendar/training-tempo-session-3/
LOCATION:Lapwing Drive\, Lapwing Drive Dunfermline\, Dunfermline\, Fife\, KY11 8NB\, United Kingdom
CATEGORIES:Training
END:VEVENT
END:VCALENDAR