BEGIN:VCALENDAR
VERSION:2.0
PRODID:-//Carnegie Harriers | Keeping West Fife Running | Dunfermline - ECPv6.15.20//NONSGML v1.0//EN
CALSCALE:GREGORIAN
METHOD:PUBLISH
X-WR-CALNAME:Carnegie Harriers | Keeping West Fife Running | Dunfermline
X-ORIGINAL-URL:https://carnegie-harriers.co.uk
X-WR-CALDESC:Events for Carnegie Harriers | Keeping West Fife Running | Dunfermline
REFRESH-INTERVAL;VALUE=DURATION:PT1H
X-Robots-Tag:noindex
X-PUBLISHED-TTL:PT1H
BEGIN:VTIMEZONE
TZID:UTC
BEGIN:STANDARD
TZOFFSETFROM:+0000
TZOFFSETTO:+0000
TZNAME:UTC
DTSTART:20180101T000000
END:STANDARD
END:VTIMEZONE
BEGIN:VEVENT
DTSTART;TZID=UTC:20191029T183000
DTEND;TZID=UTC:20191029T183000
DTSTAMP:20260426T041032
CREATED:20190925T205421Z
LAST-MODIFIED:20190925T205423Z
UID:2340-1572373800-1572373800@carnegie-harriers.co.uk
SUMMARY:Progressive session
DESCRIPTION:2-2-2-2 minutes – slow jog\, marathon\, ½ marathon\, 10k pace x 4 reps
URL:https://carnegie-harriers.co.uk/race-calendar/progressive-session-3/
LOCATION:Rosyth Ferrytoll\, Rosyth Ferrytoll Road Ferrytoll Road\, Rosyth\, Fife\, KY11 2XE\, United Kingdom
CATEGORIES:Training
END:VEVENT
BEGIN:VEVENT
DTSTART;TZID=UTC:20191024T183000
DTEND;TZID=UTC:20191024T183000
DTSTAMP:20260426T041032
CREATED:20190925T205602Z
LAST-MODIFIED:20190925T205604Z
UID:2346-1571941800-1571941800@carnegie-harriers.co.uk
SUMMARY:Interval session
DESCRIPTION:12-14 x 2mins @ 5k pace with 2 min jog recoveries
URL:https://carnegie-harriers.co.uk/race-calendar/interval-session-5/
LOCATION:Covenanters\, Covenanters Rise Off Castle Drive\, Dunfermline\, Fife\, KY11 8SQ\, United Kingdom
CATEGORIES:Training
END:VEVENT
BEGIN:VEVENT
DTSTART;TZID=UTC:20191022T183000
DTEND;TZID=UTC:20191022T183000
DTSTAMP:20260426T041032
CREATED:20190925T205421Z
LAST-MODIFIED:20190925T205423Z
UID:2339-1571769000-1571769000@carnegie-harriers.co.uk
SUMMARY:Interval Session
DESCRIPTION:3 x 10 mins @ HMP with 2 mins recovery
URL:https://carnegie-harriers.co.uk/race-calendar/interval-session-2/
LOCATION:Rosyth Ferrytoll\, Rosyth Ferrytoll Road Ferrytoll Road\, Rosyth\, Fife\, KY11 2XE\, United Kingdom
CATEGORIES:Training
END:VEVENT
BEGIN:VEVENT
DTSTART;TZID=UTC:20191017T183000
DTEND;TZID=UTC:20191017T183000
DTSTAMP:20260426T041032
CREATED:20190925T205601Z
LAST-MODIFIED:20190925T205604Z
UID:2345-1571337000-1571337000@carnegie-harriers.co.uk
SUMMARY:Interval session
DESCRIPTION:10-12 x 2mins @ 5k pace with 2 min jog recoveries
URL:https://carnegie-harriers.co.uk/race-calendar/interval-session-4/
LOCATION:Covenanters\, Covenanters Rise Off Castle Drive\, Dunfermline\, Fife\, KY11 8SQ\, United Kingdom
CATEGORIES:Training
END:VEVENT
BEGIN:VEVENT
DTSTART;TZID=UTC:20191015T183000
DTEND;TZID=UTC:20191015T183000
DTSTAMP:20260426T041032
CREATED:20190925T205421Z
LAST-MODIFIED:20190925T205423Z
UID:2338-1571164200-1571164200@carnegie-harriers.co.uk
SUMMARY:Progressive session
DESCRIPTION:2-2-2-2 minutes – slow jog\, marathon\, ½ marathon\, 10k pace x 3-4 reps
URL:https://carnegie-harriers.co.uk/race-calendar/progressive-session-2/
LOCATION:Rosyth Ferrytoll\, Rosyth Ferrytoll Road Ferrytoll Road\, Rosyth\, Fife\, KY11 2XE\, United Kingdom
CATEGORIES:Training
END:VEVENT
BEGIN:VEVENT
DTSTART;TZID=UTC:20191010T183000
DTEND;TZID=UTC:20191010T183000
DTSTAMP:20260426T041032
CREATED:20190925T205601Z
LAST-MODIFIED:20190925T205604Z
UID:2344-1570732200-1570732200@carnegie-harriers.co.uk
SUMMARY:Interval session
DESCRIPTION:10-12 x 2mins @ 5k pace with 2 min jog recoveries
URL:https://carnegie-harriers.co.uk/race-calendar/interval-session-3/
LOCATION:Covenanters\, Covenanters Rise Off Castle Drive\, Dunfermline\, Fife\, KY11 8SQ\, United Kingdom
CATEGORIES:Training
END:VEVENT
BEGIN:VEVENT
DTSTART;TZID=UTC:20191008T183000
DTEND;TZID=UTC:20191008T183000
DTSTAMP:20260426T041032
CREATED:20190925T205420Z
LAST-MODIFIED:20190925T205423Z
UID:2337-1570559400-1570559400@carnegie-harriers.co.uk
SUMMARY:Interval session
DESCRIPTION:3 x 9 mins @ HMP pace with 2 mins recovery
URL:https://carnegie-harriers.co.uk/race-calendar/interval-session/
LOCATION:Rosyth Ferrytoll\, Rosyth Ferrytoll Road Ferrytoll Road\, Rosyth\, Fife\, KY11 2XE\, United Kingdom
CATEGORIES:Training
END:VEVENT
BEGIN:VEVENT
DTSTART;TZID=UTC:20191003T183000
DTEND;TZID=UTC:20191003T183000
DTSTAMP:20260426T041032
CREATED:20190925T205601Z
LAST-MODIFIED:20190925T205604Z
UID:2343-1570127400-1570127400@carnegie-harriers.co.uk
SUMMARY:Time Trial
DESCRIPTION:3 MILE TIME TRIAL
URL:https://carnegie-harriers.co.uk/race-calendar/time-trial/
LOCATION:Castle Drive\, Dunfermline\, Castle Drive Near Sky TV\, Dunfermline\, Fife\, KY11 8FX\, United Kingdom
CATEGORIES:Training
END:VEVENT
BEGIN:VEVENT
DTSTART;TZID=UTC:20191001T183000
DTEND;TZID=UTC:20191001T183000
DTSTAMP:20260426T041032
CREATED:20190925T205420Z
LAST-MODIFIED:20190925T205423Z
UID:2336-1569954600-1569954600@carnegie-harriers.co.uk
SUMMARY:Progressive session
DESCRIPTION:2-2-2-2 minutes – slow jog\, marathon\, ½ marathon\, 10k pace x 3 reps
URL:https://carnegie-harriers.co.uk/race-calendar/progressive-session/
LOCATION:Rosyth Ferrytoll\, Rosyth Ferrytoll Road Ferrytoll Road\, Rosyth\, Fife\, KY11 2XE\, United Kingdom
CATEGORIES:Training
END:VEVENT
BEGIN:VEVENT
DTSTART;TZID=UTC:20190925T110000
DTEND;TZID=UTC:20190925T110000
DTSTAMP:20260426T041032
CREATED:20190629T145054Z
LAST-MODIFIED:20190827T200742Z
UID:2058-1569409200-1569409200@carnegie-harriers.co.uk
SUMMARY:Road GP Event 9 Stuart Duncan Memorial 5k
DESCRIPTION:ROAD GP EVENT NO. 8 : STUART DUNCAN MEMORIAL 5K*11:00 amGlenrothes\nDate 10/09/2019\nRace expected in September\nEntries and Details
URL:https://carnegie-harriers.co.uk/race-calendar/road-gp-event-9-stuart-duncan-memorial-5k/
LOCATION:Glenrothes\, Lomond Centre Glenrothes\, Glenrothes\, Fife\, KY7 5RA\, United Kingdom
CATEGORIES:Races
END:VEVENT
BEGIN:VEVENT
DTSTART;TZID=UTC:20190918T110000
DTEND;TZID=UTC:20190918T110000
DTSTAMP:20260426T041032
CREATED:20190619T201304Z
LAST-MODIFIED:20190629T145048Z
UID:1976-1568804400-1568804400@carnegie-harriers.co.uk
SUMMARY:Road GP Event 6 Forth Bridge 10k
DESCRIPTION:ROAD GP EVENT NO. 6 : FORTH BRIDGE 10K11:00 amNorth Queensferry Community Centre\nInfo: not currently available\nEntries: likely to open in May on EntryCentral
URL:https://carnegie-harriers.co.uk/race-calendar/road-gp-event-6-forth-bridge-10k-2/
LOCATION:North Queensferry\, North Queensferry Leisure Centre North Queensferry\, Fife\, KY11 1JD\, United Kingdom
CATEGORIES:Races
END:VEVENT
BEGIN:VEVENT
DTSTART;TZID=UTC:20190915T110000
DTEND;TZID=UTC:20190915T110000
DTSTAMP:20260426T041032
CREATED:20190629T145053Z
LAST-MODIFIED:20190629T145354Z
UID:2057-1568545200-1568545200@carnegie-harriers.co.uk
SUMMARY:Road GP Event 8 Cumbernauld 10K
DESCRIPTION:ROAD GP EVENT NO. 9 : CUMBERNAULD 10K11:00 amBroadwood Stadium\, Cumbernauld\, G68 9NE\nClick for More Information\nClick to Enter
URL:https://carnegie-harriers.co.uk/race-calendar/road-gp-event-8-cumbernauld-10k/
LOCATION:Broadwood Stadium\, Broadwood Stadium Cumbernauls\, Cumbernauld\, Glasgow\, G68 9NE\, United Kingdom
CATEGORIES:Races
END:VEVENT
BEGIN:VEVENT
DTSTART;TZID=UTC:20190829T183000
DTEND;TZID=UTC:20190829T183000
DTSTAMP:20260426T041032
CREATED:20190731T202749Z
LAST-MODIFIED:20190731T202749Z
UID:2141-1567103400-1567103400@carnegie-harriers.co.uk
SUMMARY:Pyramid Session
DESCRIPTION:1-1-2-3-4-5-4-3-2-1-1 @ 3k pace with 1min recoveries between
URL:https://carnegie-harriers.co.uk/race-calendar/pyramid-session-4/
LOCATION:Rex Park\, Rex Park Off Melrose Crescent\, Dunfermline\, Fife\, KY11 4QR\, United Kingdom
CATEGORIES:Training
END:VEVENT
BEGIN:VEVENT
DTSTART;TZID=UTC:20190827T183000
DTEND;TZID=UTC:20190827T183000
DTSTAMP:20260426T041032
CREATED:20190731T202809Z
LAST-MODIFIED:20190731T202809Z
UID:2147-1566930600-1566930600@carnegie-harriers.co.uk
SUMMARY:Long Hill session 26 mins
DESCRIPTION:Long Hill session 26 mins (off road)
URL:https://carnegie-harriers.co.uk/race-calendar/long-hill-session-26-mins/
LOCATION:Blairadam\, Blairadam Forest Blairadam\, Kelty\, Fife\, KY4 0JW\, United Kingdom
CATEGORIES:Training
END:VEVENT
BEGIN:VEVENT
DTSTART;TZID=UTC:20190827T183000
DTEND;TZID=UTC:20190827T183000
DTSTAMP:20260426T041032
CREATED:20190731T202807Z
LAST-MODIFIED:20190731T202807Z
UID:2146-1566930600-1566930600@carnegie-harriers.co.uk
SUMMARY:Long Hill session
DESCRIPTION:Long Hill session 26 mins
URL:https://carnegie-harriers.co.uk/race-calendar/long-hill-session-3/
LOCATION:Fife
CATEGORIES:Training
END:VEVENT
BEGIN:VEVENT
DTSTART;TZID=UTC:20190825T110000
DTEND;TZID=UTC:20190825T110000
DTSTAMP:20260426T041032
CREATED:20190619T202322Z
LAST-MODIFIED:20190629T145335Z
UID:1980-1566730800-1566730800@carnegie-harriers.co.uk
SUMMARY:Road GP Event 7 Kirkcaldy Parks Half Marathon
DESCRIPTION:ROAD GP EVENT NO. 7 : KIRKCALDY PARKS HALF MARATHON11:00 amBeveridge Park Kirkcaldy KY2 5LZ\nInfo: not currently available\nClick to Enter
URL:https://carnegie-harriers.co.uk/race-calendar/road-gp-event-7-kirkcaldy-parks-half-marathon-2/
LOCATION:Beveridge Park Kirkcaldy\, Bevridge Park Kirkcaldy Patterson Street\, Kirkcaldy\, Fife\, KY2 5NE\, United Kingdom
CATEGORIES:Races
END:VEVENT
BEGIN:VEVENT
DTSTART;TZID=UTC:20190822T183000
DTEND;TZID=UTC:20190822T183000
DTSTAMP:20260426T041032
CREATED:20190731T202749Z
LAST-MODIFIED:20190731T202749Z
UID:2138-1566498600-1566498600@carnegie-harriers.co.uk
SUMMARY:Pyramid Session
DESCRIPTION:1-2-3-4-5-4-3-2-1- @ 3k pace with 1min recoveries between
URL:https://carnegie-harriers.co.uk/race-calendar/pyramid-session/
LOCATION:Rex Park\, Rex Park Off Melrose Crescent\, Dunfermline\, Fife\, KY11 4QR\, United Kingdom
CATEGORIES:Training
END:VEVENT
BEGIN:VEVENT
DTSTART;TZID=UTC:20190820T183000
DTEND;TZID=UTC:20190820T183000
DTSTAMP:20260426T041032
CREATED:20190731T202807Z
LAST-MODIFIED:20190731T202807Z
UID:2145-1566325800-1566325800@carnegie-harriers.co.uk
SUMMARY:Long Hill session (Off Road)
DESCRIPTION:Long Hill session 24 mins (off road)
URL:https://carnegie-harriers.co.uk/race-calendar/long-hill-session-off-road-2/
LOCATION:Blairadam\, Blairadam Forest Blairadam\, Kelty\, Fife\, KY4 0JW\, United Kingdom
CATEGORIES:Training
END:VEVENT
BEGIN:VEVENT
DTSTART;TZID=UTC:20190820T183000
DTEND;TZID=UTC:20190820T183000
DTSTAMP:20260426T041032
CREATED:20190731T202806Z
LAST-MODIFIED:20190731T202806Z
UID:2144-1566325800-1566325800@carnegie-harriers.co.uk
SUMMARY:Long Hill session
DESCRIPTION:Long Hill session 24 mins
URL:https://carnegie-harriers.co.uk/race-calendar/long-hill-session-2/
LOCATION:Fife
CATEGORIES:Training
END:VEVENT
BEGIN:VEVENT
DTSTART;TZID=UTC:20190818T110000
DTEND;TZID=UTC:20190818T110000
DTSTAMP:20260426T041032
CREATED:20190629T145334Z
LAST-MODIFIED:20190629T145334Z
UID:2062-1566126000-1566126000@carnegie-harriers.co.uk
SUMMARY:Road GP Event 6 Forth Bridge 10k
DESCRIPTION:ROAD GP EVENT NO. 6 : FORTH BRIDGE 10K11:00 amNorth Queensferry Community Centre\nInfo: not currently available\nEntries: likely to open in May on EntryCentral
URL:https://carnegie-harriers.co.uk/race-calendar/road-gp-event-6-forth-bridge-10k-3/
LOCATION:North Queensferry\, North Queensferry Leisure Centre North Queensferry\, Fife\, KY11 1JD\, United Kingdom
CATEGORIES:Races
END:VEVENT
BEGIN:VEVENT
DTSTART;TZID=UTC:20190815T183000
DTEND;TZID=UTC:20190815T183000
DTSTAMP:20260426T041032
CREATED:20190731T202749Z
LAST-MODIFIED:20190731T202749Z
UID:2137-1565893800-1565893800@carnegie-harriers.co.uk
SUMMARY:Variable Pace session
DESCRIPTION:2mins @ 5k pace followed by 1min @ mile pace\, 2mins recoveries x 7 sets
URL:https://carnegie-harriers.co.uk/race-calendar/variable-pace-session-6/
LOCATION:Rex Park\, Rex Park Off Melrose Crescent\, Dunfermline\, Fife\, KY11 4QR\, United Kingdom
CATEGORIES:Training
END:VEVENT
BEGIN:VEVENT
DTSTART;TZID=UTC:20190813T183000
DTEND;TZID=UTC:20190813T183000
DTSTAMP:20260426T041032
CREATED:20190731T202806Z
LAST-MODIFIED:20190731T202806Z
UID:2142-1565721000-1565721000@carnegie-harriers.co.uk
SUMMARY:Long Hill session
DESCRIPTION:Long Hill session 22 mins
URL:https://carnegie-harriers.co.uk/race-calendar/long-hill-session/
LOCATION:Fife
CATEGORIES:Training
END:VEVENT
BEGIN:VEVENT
DTSTART;TZID=UTC:20190813T183000
DTEND;TZID=UTC:20190813T183000
DTSTAMP:20260426T041032
CREATED:20190731T202806Z
LAST-MODIFIED:20190731T202806Z
UID:2143-1565721000-1565721000@carnegie-harriers.co.uk
SUMMARY:Long Hill session (Off Road)
DESCRIPTION:Long Hill session 22 mins (off road)
URL:https://carnegie-harriers.co.uk/race-calendar/long-hill-session-off-road/
LOCATION:Blairadam\, Blairadam Forest Blairadam\, Kelty\, Fife\, KY4 0JW\, United Kingdom
CATEGORIES:Training
END:VEVENT
BEGIN:VEVENT
DTSTART;TZID=UTC:20190808T183000
DTEND;TZID=UTC:20190808T183000
DTSTAMP:20260426T041032
CREATED:20190731T202748Z
LAST-MODIFIED:20190731T202748Z
UID:2134-1565289000-1565289000@carnegie-harriers.co.uk
SUMMARY:Variable Pace session
DESCRIPTION:2mins @ 5k pace followed by 1min @ mile pace\, 2mins recoveries x 6 sets
URL:https://carnegie-harriers.co.uk/race-calendar/variable-pace-session-3/
LOCATION:Rex Park\, Rex Park Off Melrose Crescent\, Dunfermline\, Fife\, KY11 4QR\, United Kingdom
CATEGORIES:Training
END:VEVENT
BEGIN:VEVENT
DTSTART;TZID=UTC:20190801T183000
DTEND;TZID=UTC:20190801T183000
DTSTAMP:20260426T041032
CREATED:20190731T202748Z
LAST-MODIFIED:20190731T202748Z
UID:2132-1564684200-1564684200@carnegie-harriers.co.uk
SUMMARY:Variable Pace session
DESCRIPTION:2mins @ 5k pace followed by 1min @ mile pace\, 2mins recoveries x 5 sets
URL:https://carnegie-harriers.co.uk/race-calendar/variable-pace-session/
LOCATION:Rex Park\, Rex Park Off Melrose Crescent\, Dunfermline\, Fife\, KY11 4QR\, United Kingdom
CATEGORIES:Training
END:VEVENT
BEGIN:VEVENT
DTSTART;TZID=UTC:20190730T183000
DTEND;TZID=UTC:20190730T183000
DTSTAMP:20260426T041032
CREATED:20190629T140032Z
LAST-MODIFIED:20190629T140032Z
UID:2043-1564511400-1564511400@carnegie-harriers.co.uk
SUMMARY:Training: Cruise intervals
DESCRIPTION:Cruise intervals: 7 x 6 mins at 10k pace with 1 min recovery
URL:https://carnegie-harriers.co.uk/race-calendar/training-cruise-intervals-8/
LOCATION:Pittencrieff Park\, Pittencrieff Street Dunfermline\, Dunfermline\, Fife\, KY12 8QH\, United Kingdom
CATEGORIES:Training
END:VEVENT
BEGIN:VEVENT
DTSTART;TZID=UTC:20190730T130000
DTEND;TZID=UTC:20190730T130000
DTSTAMP:20260426T041032
CREATED:20190619T201304Z
LAST-MODIFIED:20190705T100416Z
UID:1975-1564491600-1564491600@carnegie-harriers.co.uk
SUMMARY:Road GP Event 5 Donkey Brae
DESCRIPTION:ROAD GP EVENT NO. 5 : DONKEY BRAE1:00 pmHawkcraig Park\, Aberdour\, Fife\, Scotland\nClick for More Information\nClick to Enter
URL:https://carnegie-harriers.co.uk/race-calendar/road-gp-event-5-donkey-brae-2/
LOCATION:Aberdour\, Hawkcraig Park Aberdour\, Aberdour\, Fife\, KY3 0RQ\, United Kingdom
CATEGORIES:Races
END:VEVENT
BEGIN:VEVENT
DTSTART;TZID=UTC:20190728T130000
DTEND;TZID=UTC:20190728T130000
DTSTAMP:20260426T041032
CREATED:20190629T145047Z
LAST-MODIFIED:20190629T145334Z
UID:2056-1564318800-1564318800@carnegie-harriers.co.uk
SUMMARY:Road GP Event 5 Donkey Brae
DESCRIPTION:ROAD GP EVENT NO. 5 : DONKEY BRAE1:00 pmHawkcraig Park\, Aberdour\, Fife\, Scotland\nClick for More Information\nClick to Enter
URL:https://carnegie-harriers.co.uk/race-calendar/road-gp-event-5-donkey-brae-3/
LOCATION:Aberdour\, Hawkcraig Park Aberdour\, Aberdour\, Fife\, KY3 0RQ\, United Kingdom
CATEGORIES:Races
END:VEVENT
BEGIN:VEVENT
DTSTART;TZID=UTC:20190725T183000
DTEND;TZID=UTC:20190725T183000
DTSTAMP:20260426T041032
CREATED:20190629T140032Z
LAST-MODIFIED:20190629T140032Z
UID:2042-1564079400-1564079400@carnegie-harriers.co.uk
SUMMARY:Time Trial: 3 Mile Time Trial
DESCRIPTION:3 Mile Time Trial
URL:https://carnegie-harriers.co.uk/race-calendar/time-trial-3-mile-time-trial/
LOCATION:PSSC\, Pitreavie Sport & Soccer Centre Queensferry Road\, Dunfermline\, Fife\, KY11 8PP\, United Kingdom
CATEGORIES:Training
END:VEVENT
BEGIN:VEVENT
DTSTART;TZID=UTC:20190723T183000
DTEND;TZID=UTC:20190723T183000
DTSTAMP:20260426T041032
CREATED:20190629T140031Z
LAST-MODIFIED:20190629T140031Z
UID:2041-1563906600-1563906600@carnegie-harriers.co.uk
SUMMARY:Training: Cruise intervals
DESCRIPTION:Cruise intervals: 7 x 6 mins at 10k pace with 1 min recovery
URL:https://carnegie-harriers.co.uk/race-calendar/training-cruise-intervals-7/
LOCATION:Pittencrieff Park\, Pittencrieff Street Dunfermline\, Dunfermline\, Fife\, KY12 8QH\, United Kingdom
CATEGORIES:Training
END:VEVENT
END:VCALENDAR