BEGIN:VCALENDAR
VERSION:2.0
PRODID:-//Carnegie Harriers | Keeping West Fife Running | Dunfermline - ECPv6.15.20//NONSGML v1.0//EN
CALSCALE:GREGORIAN
METHOD:PUBLISH
X-WR-CALNAME:Carnegie Harriers | Keeping West Fife Running | Dunfermline
X-ORIGINAL-URL:https://carnegie-harriers.co.uk
X-WR-CALDESC:Events for Carnegie Harriers | Keeping West Fife Running | Dunfermline
REFRESH-INTERVAL;VALUE=DURATION:PT1H
X-Robots-Tag:noindex
X-PUBLISHED-TTL:PT1H
BEGIN:VTIMEZONE
TZID:Europe/Dublin
BEGIN:STANDARD
TZOFFSETFROM:+0000
TZOFFSETTO:+0100
TZNAME:IST
DTSTART:20240331T010000
END:STANDARD
BEGIN:DAYLIGHT
TZOFFSETFROM:+0100
TZOFFSETTO:+0000
TZNAME:GMT
DTSTART:20241027T010000
END:DAYLIGHT
BEGIN:STANDARD
TZOFFSETFROM:+0000
TZOFFSETTO:+0100
TZNAME:IST
DTSTART:20250330T010000
END:STANDARD
BEGIN:DAYLIGHT
TZOFFSETFROM:+0100
TZOFFSETTO:+0000
TZNAME:GMT
DTSTART:20251026T010000
END:DAYLIGHT
BEGIN:STANDARD
TZOFFSETFROM:+0000
TZOFFSETTO:+0100
TZNAME:IST
DTSTART:20260329T010000
END:STANDARD
BEGIN:DAYLIGHT
TZOFFSETFROM:+0100
TZOFFSETTO:+0000
TZNAME:GMT
DTSTART:20261025T010000
END:DAYLIGHT
END:VTIMEZONE
BEGIN:VEVENT
DTSTART;TZID=Europe/Dublin:20250803T110000
DTEND;TZID=Europe/Dublin:20250803T140000
DTSTAMP:20260420T061601
CREATED:20250222T111925Z
LAST-MODIFIED:20250303T203211Z
UID:7001-1754218800-1754229600@carnegie-harriers.co.uk
SUMMARY:Templeton Trail Race
DESCRIPTION:Templeton Trail Race\, Dundee \nTRAIL Entries open on EntryCentral here
URL:https://carnegie-harriers.co.uk/race-calendar/templeton-trail-race/
LOCATION:Templeton Woods\, Dundee\, DD24TF\, United Kingdom
CATEGORIES:Trail GP
END:VEVENT
BEGIN:VEVENT
DTSTART;TZID=Europe/Dublin:20250812T000000
DTEND;TZID=Europe/Dublin:20250812T000000
DTSTAMP:20260420T061601
CREATED:20250222T111925Z
LAST-MODIFIED:20250222T111927Z
UID:7002-1754956800-1754956800@carnegie-harriers.co.uk
SUMMARY:Ceres 8
DESCRIPTION:Ceres 8\, Ceres
URL:https://carnegie-harriers.co.uk/race-calendar/ceres-8/
CATEGORIES:Road Long GP
END:VEVENT
BEGIN:VEVENT
DTSTART;TZID=Europe/Dublin:20250824T000000
DTEND;TZID=Europe/Dublin:20250824T000000
DTSTAMP:20260420T061601
CREATED:20250222T111925Z
LAST-MODIFIED:20250222T111928Z
UID:7003-1755993600-1755993600@carnegie-harriers.co.uk
SUMMARY:Forth Bridge 10k
DESCRIPTION:Forth Bridge 10k\, North Queensferry
URL:https://carnegie-harriers.co.uk/race-calendar/forth-bridge-10k/
LOCATION:North Queensferry\, North Queensferry Leisure Centre North Queensferry\, Fife\, KY11 1JD\, United Kingdom
CATEGORIES:Road Short GP
END:VEVENT
BEGIN:VEVENT
DTSTART;TZID=Europe/Dublin:20250831T110000
DTEND;TZID=Europe/Dublin:20250831T150000
DTSTAMP:20260420T061601
CREATED:20250222T111926Z
LAST-MODIFIED:20250303T202656Z
UID:7004-1756638000-1756652400@carnegie-harriers.co.uk
SUMMARY:Perth 10k
DESCRIPTION:Perth 10k\, Perth \nSHORT Entries open on EntryCentral here
URL:https://carnegie-harriers.co.uk/race-calendar/perth-10k/
LOCATION:North Inch\, Perth\, PH15HS\, United Kingdom
CATEGORIES:Road Short GP
END:VEVENT
END:VCALENDAR